Workbook

Sheet 학점교류
B2: 학점교류 교과목표
B3: 2021학년도 1학기 | H3: 기초교양교육원/영어교육원
B4: 연번 | C4: 이수구분 | D4: 과목번호 | E4: 학수코드 | F4: 교과목명 | G4: 학점 | H4: 학년 | I4: 담당교수 | J4: 강의시수 | K4: 이론시간 | L4: 실습시간 | M4: 강의시간 | N4: 강의실 | O4: 강좌유형 | P4: 수강유형 | Q4: 대면구분 | R4: 비고 | S4: 개설전공
B5: 1 | C5: 교필 | D5: 335 | E5: GS2491 | F5: 항공우주산업개론 | G5: 2 | H5: 1 | I5: =VLOOKUP(D5,[1]교과목표1!$B$2:$M$301,12,0) -> 김동용 | J5: =VLOOKUP(D5,[1]교과목표1!$B$2:$G$301,6,0) -> 2.0 | K5: =VLOOKUP(D5,[1]교과목표1!$B$2:$H$301,7,0) -> 2 | L5: =VLOOKUP(D5,[1]교과목표1!$B$2:$I$301,8,0) -> 0 | M5: =VLOOKUP(D5,[1]교과목표1!$B$2:$Q$301,16,0) -> 월)14:00∼16:00 | N5: =VLOOKUP(D5,[1]교과목표1!$B$2:$R$301,17,0) -> 과학관105 | O5: =VLOOKUP(D5,[1]교과목표1!$B$2:$N$301,13,0) -> 일반강좌 | P5: =VLOOKUP(D5,[1]교과목표1!$B$2:$P$301,15,0) -> 본/재수강 | Q5: =VLOOKUP(D5,[1]교과목표1!$B$2:$E$301,4,0) -> 블렌디드
B6: 2 | C6: 교필 | D6: 336 | E6: GS2491 | F6: 항공우주산업개론 | G6: 2 | H6: 1 | I6: =VLOOKUP(D6,[1]교과목표1!$B$2:$M$301,12,0) -> 김동용 | J6: =VLOOKUP(D6,[1]교과목표1!$B$2:$G$301,6,0) -> 2.0 | K6: =VLOOKUP(D6,[1]교과목표1!$B$2:$H$301,7,0) -> 2 | L6: =VLOOKUP(D6,[1]교과목표1!$B$2:$I$301,8,0) -> 0 | M6: =VLOOKUP(D6,[1]교과목표1!$B$2:$Q$301,16,0) -> 화)14:00∼16:00 | N6: =VLOOKUP(D6,[1]교과목표1!$B$2:$R$301,17,0) -> 과학관105 | O6: =VLOOKUP(D6,[1]교과목표1!$B$2:$N$301,13,0) -> 일반강좌 | P6: =VLOOKUP(D6,[1]교과목표1!$B$2:$P$301,15,0) -> 본/재수강 | Q6: =VLOOKUP(D6,[1]교과목표1!$B$2:$E$301,4,0) -> 블렌디드
B7: 3 | C7: 교필 | D7: 337 | E7: GS2491 | F7: 항공우주산업개론 | G7: 2 | H7: 1 | I7: =VLOOKUP(D7,[1]교과목표1!$B$2:$M$301,12,0) -> 김동용 | J7: =VLOOKUP(D7,[1]교과목표1!$B$2:$G$301,6,0) -> 2.0 | K7: =VLOOKUP(D7,[1]교과목표1!$B$2:$H$301,7,0) -> 2 | L7: =VLOOKUP(D7,[1]교과목표1!$B$2:$I$301,8,0) -> 0 | M7: =VLOOKUP(D7,[1]교과목표1!$B$2:$Q$301,16,0) -> 수)14:00∼16:00 | N7: =VLOOKUP(D7,[1]교과목표1!$B$2:$R$301,17,0) -> 과학관105 | O7: =VLOOKUP(D7,[1]교과목표1!$B$2:$N$301,13,0) -> 일반강좌 | P7: =VLOOKUP(D7,[1]교과목표1!$B$2:$P$301,15,0) -> 본/재수강 | Q7: =VLOOKUP(D7,[1]교과목표1!$B$2:$E$301,4,0) -> 블렌디드
B8: 4 | C8: 교필 | D8: 338 | E8: GS2491 | F8: 항공우주산업개론 | G8: 2 | H8: 1 | I8: =VLOOKUP(D8,[1]교과목표1!$B$2:$M$301,12,0) -> 김철우 | J8: =VLOOKUP(D8,[1]교과목표1!$B$2:$G$301,6,0) -> 2.0 | K8: =VLOOKUP(D8,[1]교과목표1!$B$2:$H$301,7,0) -> 2 | L8: =VLOOKUP(D8,[1]교과목표1!$B$2:$I$301,8,0) -> 0 | M8: =VLOOKUP(D8,[1]교과목표1!$B$2:$Q$301,16,0) -> 수)10:00∼12:00 | N8: =VLOOKUP(D8,[1]교과목표1!$B$2:$R$301,17,0) -> 과학관105 | O8: =VLOOKUP(D8,[1]교과목표1!$B$2:$N$301,13,0) -> 일반강좌 | P8: =VLOOKUP(D8,[1]교과목표1!$B$2:$P$301,15,0) -> 본/재수강 | Q8: =VLOOKUP(D8,[1]교과목표1!$B$2:$E$301,4,0) -> 블렌디드
B9: 5 | C9: 교필 | D9: 339 | E9: GS2491 | F9: 항공우주산업개론 | G9: 2 | H9: 1 | I9: =VLOOKUP(D9,[1]교과목표1!$B$2:$M$301,12,0) -> 박순천 | J9: =VLOOKUP(D9,[1]교과목표1!$B$2:$G$301,6,0) -> 2.0 | K9: =VLOOKUP(D9,[1]교과목표1!$B$2:$H$301,7,0) -> 2 | L9: =VLOOKUP(D9,[1]교과목표1!$B$2:$I$301,8,0) -> 0 | M9: =VLOOKUP(D9,[1]교과목표1!$B$2:$Q$301,16,0) -> 월)14:00∼16:00 | N9: =VLOOKUP(D9,[1]교과목표1!$B$2:$R$301,17,0) -> 과학관108 | O9: =VLOOKUP(D9,[1]교과목표1!$B$2:$N$301,13,0) -> 일반강좌 | P9: =VLOOKUP(D9,[1]교과목표1!$B$2:$P$301,15,0) -> 본/재수강 | Q9: =VLOOKUP(D9,[1]교과목표1!$B$2:$E$301,4,0) -> 블렌디드
B10: 6 | C10: 교필 | D10: 340 | E10: GS2491 | F10: 항공우주산업개론 | G10: 2 | H10: 1 | I10: =VLOOKUP(D10,[1]교과목표1!$B$2:$M$301,12,0) -> 박순천 | J10: =VLOOKUP(D10,[1]교과목표1!$B$2:$G$301,6,0) -> 2.0 | K10: =VLOOKUP(D10,[1]교과목표1!$B$2:$H$301,7,0) -> 2 | L10: =VLOOKUP(D10,[1]교과목표1!$B$2:$I$301,8,0) -> 0 | M10: =VLOOKUP(D10,[1]교과목표1!$B$2:$Q$301,16,0) -> 수)10:00∼12:00 | N10: =VLOOKUP(D10,[1]교과목표1!$B$2:$R$301,17,0) -> 과학관108 | O10: =VLOOKUP(D10,[1]교과목표1!$B$2:$N$301,13,0) -> 일반강좌 | P10: =VLOOKUP(D10,[1]교과목표1!$B$2:$P$301,15,0) -> 본/재수강 | Q10: =VLOOKUP(D10,[1]교과목표1!$B$2:$E$301,4,0) -> 블렌디드
B11: 7 | C11: 교필 | D11: 341 | E11: GS2491 | F11: 항공우주산업개론 | G11: 2 | H11: 1 | I11: =VLOOKUP(D11,[1]교과목표1!$B$2:$M$301,12,0) -> 심윤태 | J11: =VLOOKUP(D11,[1]교과목표1!$B$2:$G$301,6,0) -> 2.0 | K11: =VLOOKUP(D11,[1]교과목표1!$B$2:$H$301,7,0) -> 2 | L11: =VLOOKUP(D11,[1]교과목표1!$B$2:$I$301,8,0) -> 0 | M11: =VLOOKUP(D11,[1]교과목표1!$B$2:$Q$301,16,0) -> 화)10:00∼12:00 | N11: =VLOOKUP(D11,[1]교과목표1!$B$2:$R$301,17,0) -> 과학관105 | O11: =VLOOKUP(D11,[1]교과목표1!$B$2:$N$301,13,0) -> 일반강좌 | P11: =VLOOKUP(D11,[1]교과목표1!$B$2:$P$301,15,0) -> 본/재수강 | Q11: =VLOOKUP(D11,[1]교과목표1!$B$2:$E$301,4,0) -> 블렌디드
B12: 8 | C12: 교필 | D12: 342 | E12: GS2491 | F12: 항공우주산업개론 | G12: 2 | H12: 1 | I12: =VLOOKUP(D12,[1]교과목표1!$B$2:$M$301,12,0) -> 심윤태 | J12: =VLOOKUP(D12,[1]교과목표1!$B$2:$G$301,6,0) -> 2.0 | K12: =VLOOKUP(D12,[1]교과목표1!$B$2:$H$301,7,0) -> 2 | L12: =VLOOKUP(D12,[1]교과목표1!$B$2:$I$301,8,0) -> 0 | M12: =VLOOKUP(D12,[1]교과목표1!$B$2:$Q$301,16,0) -> 화)13:00∼15:00 | N12: =VLOOKUP(D12,[1]교과목표1!$B$2:$R$301,17,0) -> 과학관108 | O12: =VLOOKUP(D12,[1]교과목표1!$B$2:$N$301,13,0) -> 일반강좌 | P12: =VLOOKUP(D12,[1]교과목표1!$B$2:$P$301,15,0) -> 본/재수강 | Q12: =VLOOKUP(D12,[1]교과목표1!$B$2:$E$301,4,0) -> 블렌디드
B13: 9 | C13: 교필 | D13: 343 | E13: GS2491 | F13: 항공우주산업개론 | G13: 2 | H13: 1 | I13: =VLOOKUP(D13,[1]교과목표1!$B$2:$M$301,12,0) -> 최은주 | J13: =VLOOKUP(D13,[1]교과목표1!$B$2:$G$301,6,0) -> 2.0 | K13: =VLOOKUP(D13,[1]교과목표1!$B$2:$H$301,7,0) -> 2 | L13: =VLOOKUP(D13,[1]교과목표1!$B$2:$I$301,8,0) -> 0 | M13: =VLOOKUP(D13,[1]교과목표1!$B$2:$Q$301,16,0) -> 월)11:00∼13:00 | N13: =VLOOKUP(D13,[1]교과목표1!$B$2:$R$301,17,0) -> 과학관105 | O13: =VLOOKUP(D13,[1]교과목표1!$B$2:$N$301,13,0) -> 일반강좌 | P13: =VLOOKUP(D13,[1]교과목표1!$B$2:$P$301,15,0) -> 본/재수강 | Q13: =VLOOKUP(D13,[1]교과목표1!$B$2:$E$301,4,0) -> 블렌디드
B14: 10 | C14: 교필 | D14: 345 | E14: GS1107 | F14: 항공우주학개론 | G14: 2 | H14: 1 | I14: =VLOOKUP(D14,[1]교과목표1!$B$2:$M$301,12,0) -> 강종구 | J14: =VLOOKUP(D14,[1]교과목표1!$B$2:$G$301,6,0) -> 2.0 | K14: =VLOOKUP(D14,[1]교과목표1!$B$2:$H$301,7,0) -> 2 | L14: =VLOOKUP(D14,[1]교과목표1!$B$2:$I$301,8,0) -> 0 | M14: =VLOOKUP(D14,[1]교과목표1!$B$2:$Q$301,16,0) -> 월)11:00∼13:00 | N14: =VLOOKUP(D14,[1]교과목표1!$B$2:$R$301,17,0) -> 과학관108 | O14: =VLOOKUP(D14,[1]교과목표1!$B$2:$N$301,13,0) -> 일반강좌 | P14: =VLOOKUP(D14,[1]교과목표1!$B$2:$P$301,15,0) -> 본/재수강 | Q14: =VLOOKUP(D14,[1]교과목표1!$B$2:$E$301,4,0) -> 블렌디드
B15: 11 | C15: 교필 | D15: 346 | E15: GS1107 | F15: 항공우주학개론 | G15: 2 | H15: 1 | I15: =VLOOKUP(D15,[1]교과목표1!$B$2:$M$301,12,0) -> 강종구 | J15: =VLOOKUP(D15,[1]교과목표1!$B$2:$G$301,6,0) -> 2.0 | K15: =VLOOKUP(D15,[1]교과목표1!$B$2:$H$301,7,0) -> 2 | L15: =VLOOKUP(D15,[1]교과목표1!$B$2:$I$301,8,0) -> 0 | M15: =VLOOKUP(D15,[1]교과목표1!$B$2:$Q$301,16,0) -> 수)14:00∼16:00 | N15: =VLOOKUP(D15,[1]교과목표1!$B$2:$R$301,17,0) -> 과학관108 | O15: =VLOOKUP(D15,[1]교과목표1!$B$2:$N$301,13,0) -> 일반강좌 | P15: =VLOOKUP(D15,[1]교과목표1!$B$2:$P$301,15,0) -> 본/재수강 | Q15: =VLOOKUP(D15,[1]교과목표1!$B$2:$E$301,4,0) -> 블렌디드
B16: 12 | C16: 교필 | D16: 347 | E16: GS1107 | F16: 항공우주학개론 | G16: 2 | H16: 1 | I16: =VLOOKUP(D16,[1]교과목표1!$B$2:$M$301,12,0) -> 김득환 | J16: =VLOOKUP(D16,[1]교과목표1!$B$2:$G$301,6,0) -> 2.0 | K16: =VLOOKUP(D16,[1]교과목표1!$B$2:$H$301,7,0) -> 2 | L16: =VLOOKUP(D16,[1]교과목표1!$B$2:$I$301,8,0) -> 0 | M16: =VLOOKUP(D16,[1]교과목표1!$B$2:$Q$301,16,0) -> 월)10:00∼12:00 | N16: =VLOOKUP(D16,[1]교과목표1!$B$2:$R$301,17,0) -> 과학관106 | O16: =VLOOKUP(D16,[1]교과목표1!$B$2:$N$301,13,0) -> 일반강좌 | P16: =VLOOKUP(D16,[1]교과목표1!$B$2:$P$301,15,0) -> 본/재수강 | Q16: =VLOOKUP(D16,[1]교과목표1!$B$2:$E$301,4,0) -> 블렌디드
... B23: 19 | C23: 교필 | D23: 354 | E23: GS1107 | F23: 항공우주학개론 | G23: 2 | H23: 1 | I23: =VLOOKUP(D23,[1]교과목표1!$B$2:$M$301,12,0) -> 임기현 | J23: =VLOOKUP(D23,[1]교과목표1!$B$2:$G$301,6,0) -> 2.0 | K23: =VLOOKUP(D23,[1]교과목표1!$B$2:$H$301,7,0) -> 2 | L23: =VLOOKUP(D23,[1]교과목표1!$B$2:$I$301,8,0) -> 0 | M23: =VLOOKUP(D23,[1]교과목표1!$B$2:$Q$301,16,0) -> 월)10:00∼12:00 | N23: =VLOOKUP(D23,[1]교과목표1!$B$2:$R$301,17,0) -> 과학관107 | O23: =VLOOKUP(D23,[1]교과목표1!$B$2:$N$301,13,0) -> 일반강좌 | P23: =VLOOKUP(D23,[1]교과목표1!$B$2:$P$301,15,0) -> 본/재수강 | Q23: =VLOOKUP(D23,[1]교과목표1!$B$2:$E$301,4,0) -> 블렌디드
B24: 20 | C24: 교선 | D24: 396 | E24: GS2642 | F24: 논증과추리 | G24: 3 | H24: 공통 | I24: =VLOOKUP(D24,[1]교과목표1!$B$2:$M$301,12,0) -> 황호원 | J24: =VLOOKUP(D24,[1]교과목표1!$B$2:$G$301,6,0) -> 3.0 | K24: =VLOOKUP(D24,[1]교과목표1!$B$2:$H$301,7,0) -> 3 | L24: =VLOOKUP(D24,[1]교과목표1!$B$2:$I$301,8,0) -> 0 | M24: =VLOOKUP(D24,[1]교과목표1!$B$2:$Q$301,16,0) -> 화)12:00∼13:30 / 목)13:30∼15:00 | N24: =VLOOKUP(D24,[1]교과목표1!$B$2:$R$301,17,0) -> - / - | O24: =VLOOKUP(D24,[1]교과목표1!$B$2:$N$301,13,0) -> 일반강좌 | P24: =VLOOKUP(D24,[1]교과목표1!$B$2:$P$301,15,0) -> 본/재수강 | Q24: =VLOOKUP(D24,[1]교과목표1!$B$2:$E$301,4,0) -> 블렌디드
B25: 21 | C25: 교선 | D25: 397 | E25: GS2571 | F25: 동양철학의이해 | G25: 3 | H25: 공통 | I25: =VLOOKUP(D25,[1]교과목표1!$B$2:$M$301,12,0) -> 조정은 | J25: =VLOOKUP(D25,[1]교과목표1!$B$2:$G$301,6,0) -> 3.0 | K25: =VLOOKUP(D25,[1]교과목표1!$B$2:$H$301,7,0) -> 3 | L25: =VLOOKUP(D25,[1]교과목표1!$B$2:$I$301,8,0) -> 0 | M25: =VLOOKUP(D25,[1]교과목표1!$B$2:$Q$301,16,0) -> 월)13:30∼15:00 / 수)10:30∼12:00 | N25: =VLOOKUP(D25,[1]교과목표1!$B$2:$R$301,17,0) -> - / - | O25: =VLOOKUP(D25,[1]교과목표1!$B$2:$N$301,13,0) -> 일반강좌 | P25: =VLOOKUP(D25,[1]교과목표1!$B$2:$P$301,15,0) -> 본/재수강 | Q25: =VLOOKUP(D25,[1]교과목표1!$B$2:$E$301,4,0) -> 비대면
B26: 22 | C26: 교선 | D26: 398 | E26: GS2693 | F26: 서양철학의거장들 | G26: 3 | H26: 공통 | I26: =VLOOKUP(D26,[1]교과목표1!$B$2:$M$301,12,0) -> 정성관 | J26: =VLOOKUP(D26,[1]교과목표1!$B$2:$G$301,6,0) -> 3.0 | K26: =VLOOKUP(D26,[1]교과목표1!$B$2:$H$301,7,0) -> 3 | L26: =VLOOKUP(D26,[1]교과목표1!$B$2:$I$301,8,0) -> 0 | M26: =VLOOKUP(D26,[1]교과목표1!$B$2:$Q$301,16,0) -> 수)13:00∼16:00 | N26: =VLOOKUP(D26,[1]교과목표1!$B$2:$R$301,17,0) -> - | O26: =VLOOKUP(D26,[1]교과목표1!$B$2:$N$301,13,0) -> 일반강좌 | P26: =VLOOKUP(D26,[1]교과목표1!$B$2:$P$301,15,0) -> 본/재수강 | Q26: =VLOOKUP(D26,[1]교과목표1!$B$2:$E$301,4,0) -> 비대면
B27: 23 | C27: 교선 | D27: 399 | E27: GS2694 | F27: 세계사탐구 | G27: 3 | H27: 공통 | I27: =VLOOKUP(D27,[1]교과목표1!$B$2:$M$301,12,0) -> 조청현 | J27: =VLOOKUP(D27,[1]교과목표1!$B$2:$G$301,6,0) -> 3.0 | K27: =VLOOKUP(D27,[1]교과목표1!$B$2:$H$301,7,0) -> 3 | L27: =VLOOKUP(D27,[1]교과목표1!$B$2:$I$301,8,0) -> 0 | M27: =VLOOKUP(D27,[1]교과목표1!$B$2:$Q$301,16,0) -> 수)13:30∼16:30 | N27: =VLOOKUP(D27,[1]교과목표1!$B$2:$R$301,17,0) -> - | O27: =VLOOKUP(D27,[1]교과목표1!$B$2:$N$301,13,0) -> 일반강좌 | P27: =VLOOKUP(D27,[1]교과목표1!$B$2:$P$301,15,0) -> 본/재수강 | Q27: =VLOOKUP(D27,[1]교과목표1!$B$2:$E$301,4,0) -> 블렌디드
B28: 24 | C28: 교선 | D28: 400 | E28: GS2546 | F28: 요하문명의이해 | G28: 3 | H28: 공통 | I28: =VLOOKUP(D28,[1]교과목표1!$B$2:$M$301,12,0) -> 우실하 | J28: =VLOOKUP(D28,[1]교과목표1!$B$2:$G$301,6,0) -> 3.0 | K28: =VLOOKUP(D28,[1]교과목표1!$B$2:$H$301,7,0) -> 3 | L28: =VLOOKUP(D28,[1]교과목표1!$B$2:$I$301,8,0) -> 0 | M28: =VLOOKUP(D28,[1]교과목표1!$B$2:$Q$301,16,0) -> 금)10:00∼13:00 | N28: =VLOOKUP(D28,[1]교과목표1!$B$2:$R$301,17,0) -> - | O28: =VLOOKUP(D28,[1]교과목표1!$B$2:$N$301,13,0) -> 일반강좌 | P28: =VLOOKUP(D28,[1]교과목표1!$B$2:$P$301,15,0) -> 본/재수강 | Q28: =VLOOKUP(D28,[1]교과목표1!$B$2:$E$301,4,0) -> 비대면
B29: 25 | C29: 교선 | D29: 401 | E29: GS2675 | F29: 전쟁사 | G29: 3 | H29: 공통 | I29: =VLOOKUP(D29,[1]교과목표1!$B$2:$M$301,12,0) -> 윤우 | J29: =VLOOKUP(D29,[1]교과목표1!$B$2:$G$301,6,0) -> 3.0 | K29: =VLOOKUP(D29,[1]교과목표1!$B$2:$H$301,7,0) -> 3 | L29: =VLOOKUP(D29,[1]교과목표1!$B$2:$I$301,8,0) -> 0 | M29: =VLOOKUP(D29,[1]교과목표1!$B$2:$Q$301,16,0) -> 화)10:00∼13:00 | N29: =VLOOKUP(D29,[1]교과목표1!$B$2:$R$301,17,0) -> - | O29: =VLOOKUP(D29,[1]교과목표1!$B$2:$N$301,13,0) -> 일반강좌 | P29: =VLOOKUP(D29,[1]교과목표1!$B$2:$P$301,15,0) -> 본/재수강 | Q29: =VLOOKUP(D29,[1]교과목표1!$B$2:$E$301,4,0) -> 비대면
B30: 26 | C30: 교선 | D30: 402 | E30: GS2731 | F30: 젊은세대를위한「논어」 | G30: 3 | H30: 공통 | I30: =VLOOKUP(D30,[1]교과목표1!$B$2:$M$301,12,0) -> 조정은 | J30: =VLOOKUP(D30,[1]교과목표1!$B$2:$G$301,6,0) -> 3.0 | K30: =VLOOKUP(D30,[1]교과목표1!$B$2:$H$301,7,0) -> 3 | L30: =VLOOKUP(D30,[1]교과목표1!$B$2:$I$301,8,0) -> 0 | M30: =VLOOKUP(D30,[1]교과목표1!$B$2:$Q$301,16,0) -> 월)10:30∼12:00 / 수)15:00∼16:30 | N30: =VLOOKUP(D30,[1]교과목표1!$B$2:$R$301,17,0) -> - / - | O30: =VLOOKUP(D30,[1]교과목표1!$B$2:$N$301,13,0) -> 일반강좌 | P30: =VLOOKUP(D30,[1]교과목표1!$B$2:$P$301,15,0) -> 본/재수강 | Q30: =VLOOKUP(D30,[1]교과목표1!$B$2:$E$301,4,0) -> 비대면
B31: 27 | C31: 교선 | D31: 403 | E31: GS2513 | F31: 한국근현대사 | G31: 3 | H31: 공통 | I31: =VLOOKUP(D31,[1]교과목표1!$B$2:$M$301,12,0) -> 이희진 | J31: =VLOOKUP(D31,[1]교과목표1!$B$2:$G$301,6,0) -> 3.0 | K31: =VLOOKUP(D31,[1]교과목표1!$B$2:$H$301,7,0) -> 3 | L31: =VLOOKUP(D31,[1]교과목표1!$B$2:$I$301,8,0) -> 0 | M31: =VLOOKUP(D31,[1]교과목표1!$B$2:$Q$301,16,0) -> 화)11:00∼14:00 | N31: =VLOOKUP(D31,[1]교과목표1!$B$2:$R$301,17,0) -> - | O31: =VLOOKUP(D31,[1]교과목표1!$B$2:$N$301,13,0) -> 일반강좌 | P31: =VLOOKUP(D31,[1]교과목표1!$B$2:$P$301,15,0) -> 본/재수강 | Q31: =VLOOKUP(D31,[1]교과목표1!$B$2:$E$301,4,0) -> 블렌디드
B32: 28 | C32: 교선 | D32: 404 | E32: GS2028 | F32: 한국사탐구 | G32: 3 | H32: 공통 | I32: =VLOOKUP(D32,[1]교과목표1!$B$2:$M$301,12,0) -> 홍인국 | J32: =VLOOKUP(D32,[1]교과목표1!$B$2:$G$301,6,0) -> 3.0 | K32: =VLOOKUP(D32,[1]교과목표1!$B$2:$H$301,7,0) -> 3 | L32: =VLOOKUP(D32,[1]교과목표1!$B$2:$I$301,8,0) -> 0 | M32: =VLOOKUP(D32,[1]교과목표1!$B$2:$Q$301,16,0) -> 화)10:30∼13:30 | N32: =VLOOKUP(D32,[1]교과목표1!$B$2:$R$301,17,0) -> - | O32: =VLOOKUP(D32,[1]교과목표1!$B$2:$N$301,13,0) -> 일반강좌 | P32: =VLOOKUP(D32,[1]교과목표1!$B$2:$P$301,15,0) -> 본/재수강 | Q32: =VLOOKUP(D32,[1]교과목표1!$B$2:$E$301,4,0) -> 비대면
B33: 29 | C33: 교선 | D33: 405 | E33: GS2575 | F33: 공연예술의이해 | G33: 3 | H33: 공통 | I33: =VLOOKUP(D33,[1]교과목표1!$B$2:$M$301,12,0) | J33: =VLOOKUP(D33,[1]교과목표1!$B$2:$G$301,6,0) -> 3.0 | K33: =VLOOKUP(D33,[1]교과목표1!$B$2:$H$301,7,0) -> 3 | L33: =VLOOKUP(D33,[1]교과목표1!$B$2:$I$301,8,0) -> 0 | M33: =VLOOKUP(D33,[1]교과목표1!$B$2:$Q$301,16,0) -> 목)15:00∼18:00 | N33: =VLOOKUP(D33,[1]교과목표1!$B$2:$R$301,17,0) -> - | O33: =VLOOKUP(D33,[1]교과목표1!$B$2:$N$301,13,0) -> 일반강좌 | P33: =VLOOKUP(D33,[1]교과목표1!$B$2:$P$301,15,0) -> 본/재수강 | Q33: =VLOOKUP(D33,[1]교과목표1!$B$2:$E$301,4,0) -> 비대면
B34: 30 | C34: 교선 | D34: 406 | E34: GS2260 | F34: 문학과인생 | G34: 3 | H34: 공통 | I34: =VLOOKUP(D34,[1]교과목표1!$B$2:$M$301,12,0) -> 이승준 | J34: =VLOOKUP(D34,[1]교과목표1!$B$2:$G$301,6,0) -> 3.0 | K34: =VLOOKUP(D34,[1]교과목표1!$B$2:$H$301,7,0) -> 3 | L34: =VLOOKUP(D34,[1]교과목표1!$B$2:$I$301,8,0) -> 0 | M34: =VLOOKUP(D34,[1]교과목표1!$B$2:$Q$301,16,0) -> 화)10:30∼12:00 / 목)10:30∼12:00 | N34: =VLOOKUP(D34,[1]교과목표1!$B$2:$R$301,17,0) -> - / - | O34: =VLOOKUP(D34,[1]교과목표1!$B$2:$N$301,13,0) -> 일반강좌 | P34: =VLOOKUP(D34,[1]교과목표1!$B$2:$P$301,15,0) -> 본/재수강 | Q34: =VLOOKUP(D34,[1]교과목표1!$B$2:$E$301,4,0) -> 비대면
B35: 31 | C35: 교선 | D35: 407 | E35: GS2733 | F35: 서양미술감상 | G35: 3 | H35: 공통 | I35: =VLOOKUP(D35,[1]교과목표1!$B$2:$M$301,12,0) -> 이화진 | J35: =VLOOKUP(D35,[1]교과목표1!$B$2:$G$301,6,0) -> 3.0 | K35: =VLOOKUP(D35,[1]교과목표1!$B$2:$H$301,7,0) -> 3 | L35: =VLOOKUP(D35,[1]교과목표1!$B$2:$I$301,8,0) -> 0 | M35: =VLOOKUP(D35,[1]교과목표1!$B$2:$Q$301,16,0) -> 목)13:30∼15:00 | N35: =VLOOKUP(D35,[1]교과목표1!$B$2:$R$301,17,0) -> - | O35: =VLOOKUP(D35,[1]교과목표1!$B$2:$N$301,13,0) -> FL | P35: =VLOOKUP(D35,[1]교과목표1!$B$2:$P$301,15,0) -> 본/재수강 | Q35: =VLOOKUP(D35,[1]교과목표1!$B$2:$E$301,4,0) -> 비대면
... B53: 49 | C53: 교선 | D53: 426 | E53: GS2012 | F53: 천체와우주의이해 | G53: 3 | H53: 공통 | I53: =VLOOKUP(D53,[1]교과목표1!$B$2:$M$301,12,0) -> 최기석 | J53: =VLOOKUP(D53,[1]교과목표1!$B$2:$G$301,6,0) -> 3.0 | K53: =VLOOKUP(D53,[1]교과목표1!$B$2:$H$301,7,0) -> 3 | L53: =VLOOKUP(D53,[1]교과목표1!$B$2:$I$301,8,0) -> 0 | M53: =VLOOKUP(D53,[1]교과목표1!$B$2:$Q$301,16,0) -> 화)15:00∼16:30 / 수)10:30∼12:00 | N53: =VLOOKUP(D53,[1]교과목표1!$B$2:$R$301,17,0) -> - / - | O53: =VLOOKUP(D53,[1]교과목표1!$B$2:$N$301,13,0) -> 일반강좌 | P53: =VLOOKUP(D53,[1]교과목표1!$B$2:$P$301,15,0) -> 본/재수강 | Q53: =VLOOKUP(D53,[1]교과목표1!$B$2:$E$301,4,0) -> 비대면
B54: 50 | C54: 교선 | D54: 427 | E54: GS2723 | F54: 현대물리학 | G54: 3 | H54: 2 | I54: =VLOOKUP(D54,[1]교과목표1!$B$2:$M$301,12,0) -> 유병길 | J54: =VLOOKUP(D54,[1]교과목표1!$B$2:$G$301,6,0) -> 3.0 | K54: =VLOOKUP(D54,[1]교과목표1!$B$2:$H$301,7,0) -> 3 | L54: =VLOOKUP(D54,[1]교과목표1!$B$2:$I$301,8,0) -> 0 | M54: =VLOOKUP(D54,[1]교과목표1!$B$2:$Q$301,16,0) -> 금)10:00∼13:00 | N54: =VLOOKUP(D54,[1]교과목표1!$B$2:$R$301,17,0) -> - | O54: =VLOOKUP(D54,[1]교과목표1!$B$2:$N$301,13,0) -> 일반강좌 | P54: =VLOOKUP(D54,[1]교과목표1!$B$2:$P$301,15,0) -> 본/재수강 | Q54: =VLOOKUP(D54,[1]교과목표1!$B$2:$E$301,4,0) -> 블렌디드
B55: 51 | C55: 교선 | D55: 428 | E55: GS2742 | F55: 독일어와 문화 | G55: 3 | H55: 공통 | I55: =VLOOKUP(D55,[1]교과목표1!$B$2:$M$301,12,0) -> 김양실 | J55: =VLOOKUP(D55,[1]교과목표1!$B$2:$G$301,6,0) -> 3.0 | K55: =VLOOKUP(D55,[1]교과목표1!$B$2:$H$301,7,0) -> 3 | L55: =VLOOKUP(D55,[1]교과목표1!$B$2:$I$301,8,0) -> 0 | M55: =VLOOKUP(D55,[1]교과목표1!$B$2:$Q$301,16,0) -> 목)10:00∼13:00 | N55: =VLOOKUP(D55,[1]교과목표1!$B$2:$R$301,17,0) -> - | O55: =VLOOKUP(D55,[1]교과목표1!$B$2:$N$301,13,0) -> 일반강좌 | P55: =VLOOKUP(D55,[1]교과목표1!$B$2:$P$301,15,0) -> 본/재수강 | Q55: =VLOOKUP(D55,[1]교과목표1!$B$2:$E$301,4,0) -> 블렌디드
B56: 52 | C56: 교선 | D56: 429 | E56: GS2685 | F56: 라틴아메리카의문화 | G56: 3 | H56: 공통 | I56: =VLOOKUP(D56,[1]교과목표1!$B$2:$M$301,12,0) -> 조혜진 | J56: =VLOOKUP(D56,[1]교과목표1!$B$2:$G$301,6,0) -> 3.0 | K56: =VLOOKUP(D56,[1]교과목표1!$B$2:$H$301,7,0) -> 3 | L56: =VLOOKUP(D56,[1]교과목표1!$B$2:$I$301,8,0) -> 0 | M56: =VLOOKUP(D56,[1]교과목표1!$B$2:$Q$301,16,0) -> 월)10:30∼13:30 | N56: =VLOOKUP(D56,[1]교과목표1!$B$2:$R$301,17,0) -> - | O56: =VLOOKUP(D56,[1]교과목표1!$B$2:$N$301,13,0) -> 일반강좌 | P56: =VLOOKUP(D56,[1]교과목표1!$B$2:$P$301,15,0) -> 본/재수강 | Q56: =VLOOKUP(D56,[1]교과목표1!$B$2:$E$301,4,0) -> 비대면
B57: 53 | C57: 교선 | D57: 430 | E57: GS2739 | F57: 러시아어와문화 | G57: 3 | H57: 공통 | I57: =VLOOKUP(D57,[1]교과목표1!$B$2:$M$301,12,0) -> 정영주 | J57: =VLOOKUP(D57,[1]교과목표1!$B$2:$G$301,6,0) -> 3.0 | K57: =VLOOKUP(D57,[1]교과목표1!$B$2:$H$301,7,0) -> 3 | L57: =VLOOKUP(D57,[1]교과목표1!$B$2:$I$301,8,0) -> 0 | M57: =VLOOKUP(D57,[1]교과목표1!$B$2:$Q$301,16,0) -> 월)12:00∼15:00 | N57: =VLOOKUP(D57,[1]교과목표1!$B$2:$R$301,17,0) -> - | O57: =VLOOKUP(D57,[1]교과목표1!$B$2:$N$301,13,0) -> 일반강좌 | P57: =VLOOKUP(D57,[1]교과목표1!$B$2:$P$301,15,0) -> 본/재수강 | Q57: =VLOOKUP(D57,[1]교과목표1!$B$2:$E$301,4,0) -> 비대면
B58: 54 | C58: 교선 | D58: 431 | E58: GS2740 | F58: 프랑스어와문화 | G58: 3 | H58: 공통 | I58: =VLOOKUP(D58,[1]교과목표1!$B$2:$M$301,12,0) -> 김은경 | J58: =VLOOKUP(D58,[1]교과목표1!$B$2:$G$301,6,0) -> 3.0 | K58: =VLOOKUP(D58,[1]교과목표1!$B$2:$H$301,7,0) -> 3 | L58: =VLOOKUP(D58,[1]교과목표1!$B$2:$I$301,8,0) -> 0 | M58: =VLOOKUP(D58,[1]교과목표1!$B$2:$Q$301,16,0) -> 금)12:00∼15:00 | N58: =VLOOKUP(D58,[1]교과목표1!$B$2:$R$301,17,0) -> - | O58: =VLOOKUP(D58,[1]교과목표1!$B$2:$N$301,13,0) -> 일반강좌 | P58: =VLOOKUP(D58,[1]교과목표1!$B$2:$P$301,15,0) -> 본/재수강 | Q58: =VLOOKUP(D58,[1]교과목표1!$B$2:$E$301,4,0) -> 비대면
B59: 55 | C59: 교선 | D59: 432 | E59: GS2741 | F59: 현대중국의이해 | G59: 3 | H59: 공통 | I59: =VLOOKUP(D59,[1]교과목표1!$B$2:$M$301,12,0) -> 윤애경 | J59: =VLOOKUP(D59,[1]교과목표1!$B$2:$G$301,6,0) -> 3.0 | K59: =VLOOKUP(D59,[1]교과목표1!$B$2:$H$301,7,0) -> 3 | L59: =VLOOKUP(D59,[1]교과목표1!$B$2:$I$301,8,0) -> 0 | M59: =VLOOKUP(D59,[1]교과목표1!$B$2:$Q$301,16,0) -> 목)09:00∼12:00 | N59: =VLOOKUP(D59,[1]교과목표1!$B$2:$R$301,17,0) -> - | O59: =VLOOKUP(D59,[1]교과목표1!$B$2:$N$301,13,0) -> 일반강좌 | P59: =VLOOKUP(D59,[1]교과목표1!$B$2:$P$301,15,0) -> 본/재수강 | Q59: =VLOOKUP(D59,[1]교과목표1!$B$2:$E$301,4,0) -> 비대면
B60: 56 | C60: 교선 | D60: 433 | E60: GS2728 | F60: 나를위한성장의심리학 | G60: 3 | H60: 공통 | I60: =VLOOKUP(D60,[1]교과목표1!$B$2:$M$301,12,0) -> 김이준 | J60: =VLOOKUP(D60,[1]교과목표1!$B$2:$G$301,6,0) -> 3.0 | K60: =VLOOKUP(D60,[1]교과목표1!$B$2:$H$301,7,0) -> 3 | L60: =VLOOKUP(D60,[1]교과목표1!$B$2:$I$301,8,0) -> 0 | M60: =VLOOKUP(D60,[1]교과목표1!$B$2:$Q$301,16,0) -> 월)13:30∼15:00 / 수)10:30∼12:00 | N60: =VLOOKUP(D60,[1]교과목표1!$B$2:$R$301,17,0) -> - / - | O60: =VLOOKUP(D60,[1]교과목표1!$B$2:$N$301,13,0) -> FL | P60: =VLOOKUP(D60,[1]교과목표1!$B$2:$P$301,15,0) -> 본/재수강 | Q60: =VLOOKUP(D60,[1]교과목표1!$B$2:$E$301,4,0) -> 비대면
B61: 57 | C61: 교선 | D61: 447 | E61: GS2702 | F61: 창의적음악과소통 | G61: 3 | H61: 공통 | I61: =VLOOKUP(D61,[1]교과목표1!$B$2:$M$301,12,0) -> 이원 | J61: =VLOOKUP(D61,[1]교과목표1!$B$2:$G$301,6,0) -> 3.0 | K61: =VLOOKUP(D61,[1]교과목표1!$B$2:$H$301,7,0) -> 3 | L61: =VLOOKUP(D61,[1]교과목표1!$B$2:$I$301,8,0) -> 0 | M61: =VLOOKUP(D61,[1]교과목표1!$B$2:$Q$301,16,0) -> 수)13:30∼16:30 | N61: =VLOOKUP(D61,[1]교과목표1!$B$2:$R$301,17,0) -> - | O61: =VLOOKUP(D61,[1]교과목표1!$B$2:$N$301,13,0) -> PtBL | P61: =VLOOKUP(D61,[1]교과목표1!$B$2:$P$301,15,0) -> 본/재수강 | Q61: =VLOOKUP(D61,[1]교과목표1!$B$2:$E$301,4,0) -> 비대면
B62: 58 | C62: 교선 | D62: 462 | E62: GS2725 | F62: FATS | G62: 3 | H62: 공통 | I62: =VLOOKUP(D62,[1]교과목표1!$B$2:$M$301,12,0) -> 남석우 | J62: =VLOOKUP(D62,[1]교과목표1!$B$2:$G$301,6,0) -> 3.0 | K62: =VLOOKUP(D62,[1]교과목표1!$B$2:$H$301,7,0) -> 3 | L62: =VLOOKUP(D62,[1]교과목표1!$B$2:$I$301,8,0) -> 0 | M62: =VLOOKUP(D62,[1]교과목표1!$B$2:$Q$301,16,0) -> 금)15:00∼18:00 | N62: =VLOOKUP(D62,[1]교과목표1!$B$2:$R$301,17,0) -> - | O62: =VLOOKUP(D62,[1]교과목표1!$B$2:$N$301,13,0) -> FL | P62: =VLOOKUP(D62,[1]교과목표1!$B$2:$P$301,15,0) -> 본/재수강 | Q62: =VLOOKUP(D62,[1]교과목표1!$B$2:$E$301,4,0) -> 비대면
B63: 59 | C63: 교선 | D63: 464 | E63: GS2706 | F63: 법학원론 | G63: 3 | H63: 공통 | I63: =VLOOKUP(D63,[1]교과목표1!$B$2:$M$301,12,0) -> 황호원 | J63: =VLOOKUP(D63,[1]교과목표1!$B$2:$G$301,6,0) -> 3.0 | K63: =VLOOKUP(D63,[1]교과목표1!$B$2:$H$301,7,0) -> 3 | L63: =VLOOKUP(D63,[1]교과목표1!$B$2:$I$301,8,0) -> 0 | M63: =VLOOKUP(D63,[1]교과목표1!$B$2:$Q$301,16,0) -> 월)15:00∼16:30 / 수)15:00∼16:30 | N63: =VLOOKUP(D63,[1]교과목표1!$B$2:$R$301,17,0) -> 과학관110 / 과학관110 | O63: =VLOOKUP(D63,[1]교과목표1!$B$2:$N$301,13,0) -> 일반강좌 | P63: =VLOOKUP(D63,[1]교과목표1!$B$2:$P$301,15,0) -> 본/재수강 | Q63: =VLOOKUP(D63,[1]교과목표1!$B$2:$E$301,4,0) -> 블렌디드
B64: 60 | C64: 교선 | D64: 467 | E64: GS2259 | F64: 실용한자와한문 | G64: 3 | H64: 공통 | I64: =VLOOKUP(D64,[1]교과목표1!$B$2:$M$301,12,0) -> 이권 | J64: =VLOOKUP(D64,[1]교과목표1!$B$2:$G$301,6,0) -> 3.0 | K64: =VLOOKUP(D64,[1]교과목표1!$B$2:$H$301,7,0) -> 3 | L64: =VLOOKUP(D64,[1]교과목표1!$B$2:$I$301,8,0) -> 0 | M64: =VLOOKUP(D64,[1]교과목표1!$B$2:$Q$301,16,0) -> 목)15:00∼18:00 | N64: =VLOOKUP(D64,[1]교과목표1!$B$2:$R$301,17,0) -> - | O64: =VLOOKUP(D64,[1]교과목표1!$B$2:$N$301,13,0) -> 일반강좌 | P64: =VLOOKUP(D64,[1]교과목표1!$B$2:$P$301,15,0) -> 본/재수강 | Q64: =VLOOKUP(D64,[1]교과목표1!$B$2:$E$301,4,0) -> 비대면
B65: 61 | C65: 교선 | D65: 469 | E65: GS2563 | F65: 자본시장의이해와창업 | G65: 2 | H65: 공통 | I65: =VLOOKUP(D65,[1]교과목표1!$B$2:$M$301,12,0) -> 원상필 | J65: =VLOOKUP(D65,[1]교과목표1!$B$2:$G$301,6,0) -> 2.0 | K65: =VLOOKUP(D65,[1]교과목표1!$B$2:$H$301,7,0) -> 2 | L65: =VLOOKUP(D65,[1]교과목표1!$B$2:$I$301,8,0) -> 0 | M65: =VLOOKUP(D65,[1]교과목표1!$B$2:$Q$301,16,0) -> 수)10:00∼12:00 | N65: =VLOOKUP(D65,[1]교과목표1!$B$2:$R$301,17,0) -> - | O65: =VLOOKUP(D65,[1]교과목표1!$B$2:$N$301,13,0) -> FL | P65: =VLOOKUP(D65,[1]교과목표1!$B$2:$P$301,15,0) -> 본/재수강 | Q65: =VLOOKUP(D65,[1]교과목표1!$B$2:$E$301,4,0) -> 비대면
B66: 62 | C66: 교선 | D66: 470 | E66: GS2562 | F66: 창업아이템개발 | G66: 2 | H66: 공통 | I66: =VLOOKUP(D66,[1]교과목표1!$B$2:$M$301,12,0) -> 원상필 | J66: =VLOOKUP(D66,[1]교과목표1!$B$2:$G$301,6,0) -> 2.0 | K66: =VLOOKUP(D66,[1]교과목표1!$B$2:$H$301,7,0) -> 2 | L66: =VLOOKUP(D66,[1]교과목표1!$B$2:$I$301,8,0) -> 0 | M66: =VLOOKUP(D66,[1]교과목표1!$B$2:$Q$301,16,0) -> 수)12:00∼14:00 | N66: =VLOOKUP(D66,[1]교과목표1!$B$2:$R$301,17,0) -> - | O66: =VLOOKUP(D66,[1]교과목표1!$B$2:$N$301,13,0) -> FL | P66: =VLOOKUP(D66,[1]교과목표1!$B$2:$P$301,15,0) -> 본/재수강 | Q66: =VLOOKUP(D66,[1]교과목표1!$B$2:$E$301,4,0) -> 비대면
B67: 63 | C67: 교선 | D67: 475 | E67: GS2037 | F67: 생물학의이해 | G67: 3 | H67: 공통 | I67: =VLOOKUP(D67,[1]교과목표1!$B$2:$M$301,12,0) -> 정인숙 | J67: =VLOOKUP(D67,[1]교과목표1!$B$2:$G$301,6,0) -> 3.0 | K67: =VLOOKUP(D67,[1]교과목표1!$B$2:$H$301,7,0) -> 3 | L67: =VLOOKUP(D67,[1]교과목표1!$B$2:$I$301,8,0) -> 0 | M67: =VLOOKUP(D67,[1]교과목표1!$B$2:$Q$301,16,0) -> 화)09:00∼12:00 | N67: =VLOOKUP(D67,[1]교과목표1!$B$2:$R$301,17,0) -> - | O67: =VLOOKUP(D67,[1]교과목표1!$B$2:$N$301,13,0) -> 일반강좌 | P67: =VLOOKUP(D67,[1]교과목표1!$B$2:$P$301,15,0) -> 본/재수강 | Q67: =VLOOKUP(D67,[1]교과목표1!$B$2:$E$301,4,0) -> 비대면
B68: 64 | C68: 교선 | D68: 476 | E68: GS2714 | F68: 미분적분학 | G68: 3 | H68: 1 | I68: =VLOOKUP(D68,[1]교과목표1!$B$2:$M$301,12,0) -> 강오진 | J68: =VLOOKUP(D68,[1]교과목표1!$B$2:$G$301,6,0) -> 3.0 | K68: =VLOOKUP(D68,[1]교과목표1!$B$2:$H$301,7,0) -> 3 | L68: =VLOOKUP(D68,[1]교과목표1!$B$2:$I$301,8,0) -> 0 | M68: =VLOOKUP(D68,[1]교과목표1!$B$2:$Q$301,16,0) -> 금)14:00∼17:00 | N68: =VLOOKUP(D68,[1]교과목표1!$B$2:$R$301,17,0) -> 과학관105 | O68: =VLOOKUP(D68,[1]교과목표1!$B$2:$N$301,13,0) -> 일반강좌 | P68: =VLOOKUP(D68,[1]교과목표1!$B$2:$P$301,15,0) -> 본/재수강 | Q68: =VLOOKUP(D68,[1]교과목표1!$B$2:$E$301,4,0) -> 블렌디드
B69: 65 | C69: 교선 | D69: 780 | E69: GS2573 | F69: Stories and Culture | G69: 3 | H69: 공통 | I69: =VLOOKUP(D69,[1]교과목표1!$B$2:$M$301,12,0) -> 로보트번즈 | J69: =VLOOKUP(D69,[1]교과목표1!$B$2:$G$301,6,0) -> 3.0 | K69: =VLOOKUP(D69,[1]교과목표1!$B$2:$H$301,7,0) -> 3 | L69: =VLOOKUP(D69,[1]교과목표1!$B$2:$I$301,8,0) -> 0 | M69: =VLOOKUP(D69,[1]교과목표1!$B$2:$Q$301,16,0) -> 화)10:30∼12:00 / 목)10:30∼12:00 | N69: =VLOOKUP(D69,[1]교과목표1!$B$2:$R$301,17,0) -> - / - | O69: =VLOOKUP(D69,[1]교과목표1!$B$2:$N$301,13,0) -> 영어강좌 | P69: =VLOOKUP(D69,[1]교과목표1!$B$2:$P$301,15,0) -> 본/재수강 | Q69: =VLOOKUP(D69,[1]교과목표1!$B$2:$E$301,4,0) -> 대면
B70: 66 | C70: 교선 | D70: 781 | E70: GS2592 | F70: Cultural Awareness | G70: 3 | H70: 공통 | I70: =VLOOKUP(D70,[1]교과목표1!$B$2:$M$301,12,0) -> 다니엘베이커 | J70: =VLOOKUP(D70,[1]교과목표1!$B$2:$G$301,6,0) -> 3.0 | K70: =VLOOKUP(D70,[1]교과목표1!$B$2:$H$301,7,0) -> 3 | L70: =VLOOKUP(D70,[1]교과목표1!$B$2:$I$301,8,0) -> 0 | M70: =VLOOKUP(D70,[1]교과목표1!$B$2:$Q$301,16,0) -> 월)13:30∼15:00 / 수)13:30∼15:00 | N70: =VLOOKUP(D70,[1]교과목표1!$B$2:$R$301,17,0) -> - / - | O70: =VLOOKUP(D70,[1]교과목표1!$B$2:$N$301,13,0) -> 영어강좌 | P70: =VLOOKUP(D70,[1]교과목표1!$B$2:$P$301,15,0) -> 본/재수강 | Q70: =VLOOKUP(D70,[1]교과목표1!$B$2:$E$301,4,0) -> 비대면
B71: 67 | C71: 교선 | D71: 782 | E71: GS2713 | F71: English for Engineering | G71: 3 | H71: 공통 | I71: =VLOOKUP(D71,[1]교과목표1!$B$2:$M$301,12,0) -> 마이클버커트 | J71: =VLOOKUP(D71,[1]교과목표1!$B$2:$G$301,6,0) -> 3.0 | K71: =VLOOKUP(D71,[1]교과목표1!$B$2:$H$301,7,0) -> 3 | L71: =VLOOKUP(D71,[1]교과목표1!$B$2:$I$301,8,0) -> 0 | M71: =VLOOKUP(D71,[1]교과목표1!$B$2:$Q$301,16,0) -> 월)12:00∼13:30 / 수)12:00∼13:30 | N71: =VLOOKUP(D71,[1]교과목표1!$B$2:$R$301,17,0) -> - / - | O71: =VLOOKUP(D71,[1]교과목표1!$B$2:$N$301,13,0) -> 영어강좌 | P71: =VLOOKUP(D71,[1]교과목표1!$B$2:$P$301,15,0) -> 본/재수강 | Q71: =VLOOKUP(D71,[1]교과목표1!$B$2:$E$301,4,0) -> 비대면
B72: 68 | C72: 교선 | D72: 783 | E72: GS2586 | F72: Speaking Conversation and Accuracy | G72: 3 | H72: 공통 | I72: =VLOOKUP(D72,[1]교과목표1!$B$2:$M$301,12,0) -> 다니엘베이커 | J72: =VLOOKUP(D72,[1]교과목표1!$B$2:$G$301,6,0) -> 3.0 | K72: =VLOOKUP(D72,[1]교과목표1!$B$2:$H$301,7,0) -> 3 | L72: =VLOOKUP(D72,[1]교과목표1!$B$2:$I$301,8,0) -> 0 | M72: =VLOOKUP(D72,[1]교과목표1!$B$2:$Q$301,16,0) -> 월)15:00∼16:30 / 수)15:00∼16:30 | N72: =VLOOKUP(D72,[1]교과목표1!$B$2:$R$301,17,0) -> - / - | O72: =VLOOKUP(D72,[1]교과목표1!$B$2:$N$301,13,0) -> 영어강좌 | P72: =VLOOKUP(D72,[1]교과목표1!$B$2:$P$301,15,0) -> 본/재수강 | Q72: =VLOOKUP(D72,[1]교과목표1!$B$2:$E$301,4,0) -> 비대면
B73: 69 | C73: 교선 | D73: 784 | E73: GS2587 | F73: Speaking for Argumentation and Opinion | G73: 3 | H73: 공통 | I73: =VLOOKUP(D73,[1]교과목표1!$B$2:$M$301,12,0) -> 로보트번즈 | J73: =VLOOKUP(D73,[1]교과목표1!$B$2:$G$301,6,0) -> 3.0 | K73: =VLOOKUP(D73,[1]교과목표1!$B$2:$H$301,7,0) -> 3 | L73: =VLOOKUP(D73,[1]교과목표1!$B$2:$I$301,8,0) -> 0 | M73: =VLOOKUP(D73,[1]교과목표1!$B$2:$Q$301,16,0) -> 월)10:30∼12:00 / 수)10:30∼12:00 | N73: =VLOOKUP(D73,[1]교과목표1!$B$2:$R$301,17,0) -> - / - | O73: =VLOOKUP(D73,[1]교과목표1!$B$2:$N$301,13,0) -> 영어강좌 | P73: =VLOOKUP(D73,[1]교과목표1!$B$2:$P$301,15,0) -> 본/재수강 | Q73: =VLOOKUP(D73,[1]교과목표1!$B$2:$E$301,4,0) -> 대면
B74: 70 | C74: 교선 | D74: 792 | E74: GS2572 | F74: 글로벌문화와 소통 | G74: 3 | H74: 공통 | I74: =VLOOKUP(D74,[1]교과목표1!$B$2:$M$301,12,0) | J74: =VLOOKUP(D74,[1]교과목표1!$B$2:$G$301,6,0) -> 3.0 | K74: =VLOOKUP(D74,[1]교과목표1!$B$2:$H$301,7,0) -> 3 | L74: =VLOOKUP(D74,[1]교과목표1!$B$2:$I$301,8,0) -> 0 | M74: =VLOOKUP(D74,[1]교과목표1!$B$2:$Q$301,16,0) -> 월)13:30∼15:00 / 수)13:30∼15:00 | N74: =VLOOKUP(D74,[1]교과목표1!$B$2:$R$301,17,0) -> - / - | O74: =VLOOKUP(D74,[1]교과목표1!$B$2:$N$301,13,0) -> 일반강좌 | P74: =VLOOKUP(D74,[1]교과목표1!$B$2:$P$301,15,0) -> 본/재수강 | Q74: =VLOOKUP(D74,[1]교과목표1!$B$2:$E$301,4,0)
B75: 71 | C75: 교선 | D75: 793 | E75: GS2697 | F75: 교육과 사회 | G75: 3 | H75: 공통 | I75: =VLOOKUP(D75,[1]교과목표1!$B$2:$M$301,12,0) -> 이승열 | J75: =VLOOKUP(D75,[1]교과목표1!$B$2:$G$301,6,0) -> 3.0 | K75: =VLOOKUP(D75,[1]교과목표1!$B$2:$H$301,7,0) -> 3 | L75: =VLOOKUP(D75,[1]교과목표1!$B$2:$I$301,8,0) -> 0 | M75: =VLOOKUP(D75,[1]교과목표1!$B$2:$Q$301,16,0) -> 월)10:30∼12:00 / 수)10:30∼12:00 | N75: =VLOOKUP(D75,[1]교과목표1!$B$2:$R$301,17,0) -> - / - | O75: =VLOOKUP(D75,[1]교과목표1!$B$2:$N$301,13,0) -> 일반강좌 | P75: =VLOOKUP(D75,[1]교과목표1!$B$2:$P$301,15,0) -> 본/재수강 | Q75: =VLOOKUP(D75,[1]교과목표1!$B$2:$E$301,4,0) -> 블렌디드
B76: 72 | C76: 교선 | D76: 794 | E76: GS2711 | F76: 북미문화와 진로탐색 | G76: 3 | H76: 공통 | I76: =VLOOKUP(D76,[1]교과목표1!$B$2:$M$301,12,0) -> 이승열 | J76: =VLOOKUP(D76,[1]교과목표1!$B$2:$G$301,6,0) -> 3.0 | K76: =VLOOKUP(D76,[1]교과목표1!$B$2:$H$301,7,0) -> 3 | L76: =VLOOKUP(D76,[1]교과목표1!$B$2:$I$301,8,0) -> 0 | M76: =VLOOKUP(D76,[1]교과목표1!$B$2:$Q$301,16,0) -> 월)13:30∼15:00 / 수)13:30∼15:00 | N76: =VLOOKUP(D76,[1]교과목표1!$B$2:$R$301,17,0) -> - / - | O76: =VLOOKUP(D76,[1]교과목표1!$B$2:$N$301,13,0) -> 일반강좌 | P76: =VLOOKUP(D76,[1]교과목표1!$B$2:$P$301,15,0) -> 본/재수강 | Q76: =VLOOKUP(D76,[1]교과목표1!$B$2:$E$301,4,0) -> 블렌디드
B77: 73 | C77: 교선 | D77: 795 | E77: GS2559 | F77: 언어와 과학 | G77: 3 | H77: 공통 | I77: =VLOOKUP(D77,[1]교과목표1!$B$2:$M$301,12,0) -> 문승철 | J77: =VLOOKUP(D77,[1]교과목표1!$B$2:$G$301,6,0) -> 3.0 | K77: =VLOOKUP(D77,[1]교과목표1!$B$2:$H$301,7,0) -> 3 | L77: =VLOOKUP(D77,[1]교과목표1!$B$2:$I$301,8,0) -> 0 | M77: =VLOOKUP(D77,[1]교과목표1!$B$2:$Q$301,16,0) -> 월)13:30∼15:00 / 수)13:30∼15:00 | N77: =VLOOKUP(D77,[1]교과목표1!$B$2:$R$301,17,0) -> - / - | O77: =VLOOKUP(D77,[1]교과목표1!$B$2:$N$301,13,0) -> 일반강좌 | P77: =VLOOKUP(D77,[1]교과목표1!$B$2:$P$301,15,0) -> 본/재수강 | Q77: =VLOOKUP(D77,[1]교과목표1!$B$2:$E$301,4,0) -> 비대면
B78: 74 | C78: 교선 | D78: 796 | E78: GS2712 | F78: 영상영어와 토론연습 | G78: 3 | H78: 공통 | I78: =VLOOKUP(D78,[1]교과목표1!$B$2:$M$301,12,0) -> 문승철 | J78: =VLOOKUP(D78,[1]교과목표1!$B$2:$G$301,6,0) -> 3.0 | K78: =VLOOKUP(D78,[1]교과목표1!$B$2:$H$301,7,0) -> 3 | L78: =VLOOKUP(D78,[1]교과목표1!$B$2:$I$301,8,0) -> 0 | M78: =VLOOKUP(D78,[1]교과목표1!$B$2:$Q$301,16,0) -> 화)13:30∼15:00 / 목)13:30∼15:00 | N78: =VLOOKUP(D78,[1]교과목표1!$B$2:$R$301,17,0) -> - / - | O78: =VLOOKUP(D78,[1]교과목표1!$B$2:$N$301,13,0) -> 일반강좌 | P78: =VLOOKUP(D78,[1]교과목표1!$B$2:$P$301,15,0) -> 본/재수강 | Q78: =VLOOKUP(D78,[1]교과목표1!$B$2:$E$301,4,0) -> 비대면
B79: 75 | C79: 교선 | D79: 797 | E79: GS2700 | F79: 글로벌이슈와 융복합영작문 | G79: 3 | H79: 공통 | I79: =VLOOKUP(D79,[1]교과목표1!$B$2:$M$301,12,0) -> 문승철 | J79: =VLOOKUP(D79,[1]교과목표1!$B$2:$G$301,6,0) -> 3.0 | K79: =VLOOKUP(D79,[1]교과목표1!$B$2:$H$301,7,0) -> 3 | L79: =VLOOKUP(D79,[1]교과목표1!$B$2:$I$301,8,0) -> 0 | M79: =VLOOKUP(D79,[1]교과목표1!$B$2:$Q$301,16,0) -> 월)10:30∼12:00 / 수)10:30∼12:00 | N79: =VLOOKUP(D79,[1]교과목표1!$B$2:$R$301,17,0) -> - / - | O79: =VLOOKUP(D79,[1]교과목표1!$B$2:$N$301,13,0) -> 일반강좌 | P79: =VLOOKUP(D79,[1]교과목표1!$B$2:$P$301,15,0) -> 본/재수강 | Q79: =VLOOKUP(D79,[1]교과목표1!$B$2:$E$301,4,0) -> 비대면
B80: 76 | C80: 교선 | D80: 798 | E80: GS2044 | F80: 글로벌영어와문화 | G80: 3 | H80: 공통 | I80: =VLOOKUP(D80,[1]교과목표1!$B$2:$M$301,12,0) -> 공은정 | J80: =VLOOKUP(D80,[1]교과목표1!$B$2:$G$301,6,0) -> 3.0 | K80: =VLOOKUP(D80,[1]교과목표1!$B$2:$H$301,7,0) -> 3 | L80: =VLOOKUP(D80,[1]교과목표1!$B$2:$I$301,8,0) -> 0 | M80: =VLOOKUP(D80,[1]교과목표1!$B$2:$Q$301,16,0) -> 월)15:00∼16:30 / 수)15:00∼16:30 | N80: =VLOOKUP(D80,[1]교과목표1!$B$2:$R$301,17,0) -> - / - | O80: =VLOOKUP(D80,[1]교과목표1!$B$2:$N$301,13,0) -> 일반강좌 | P80: =VLOOKUP(D80,[1]교과목표1!$B$2:$P$301,15,0) -> 본/재수강 | Q80: =VLOOKUP(D80,[1]교과목표1!$B$2:$E$301,4,0) -> 비대면
... B82: 78 | C82: 교선 | D82: 800 | E82: GS2721 | F82: 언어와 사회문화 | G82: 3 | H82: 공통 | I82: =VLOOKUP(D82,[1]교과목표1!$B$2:$M$301,12,0) -> 공은정 | J82: =VLOOKUP(D82,[1]교과목표1!$B$2:$G$301,6,0) -> 3.0 | K82: =VLOOKUP(D82,[1]교과목표1!$B$2:$H$301,7,0) -> 3 | L82: =VLOOKUP(D82,[1]교과목표1!$B$2:$I$301,8,0) -> 0 | M82: =VLOOKUP(D82,[1]교과목표1!$B$2:$Q$301,16,0) -> 화)10:30∼12:00 / 목)10:30∼12:00 | N82: =VLOOKUP(D82,[1]교과목표1!$B$2:$R$301,17,0) -> - / - | O82: =VLOOKUP(D82,[1]교과목표1!$B$2:$N$301,13,0) -> FL | P82: =VLOOKUP(D82,[1]교과목표1!$B$2:$P$301,15,0) -> 본/재수강 | Q82: =VLOOKUP(D82,[1]교과목표1!$B$2:$E$301,4,0) -> 비대면
B83: 79 | C83: 교선 | D83: 861 | E83: GS2748 | F83: 항공법개론 | G83: 3 | H83: 공통 | I83: =VLOOKUP(D83,[1]교과목표1!$B$2:$M$301,12,0) -> 김성미 | J83: =VLOOKUP(D83,[1]교과목표1!$B$2:$G$301,6,0) -> 3.0 | K83: =VLOOKUP(D83,[1]교과목표1!$B$2:$H$301,7,0) -> 3 | L83: =VLOOKUP(D83,[1]교과목표1!$B$2:$I$301,8,0) -> 0 | M83: =VLOOKUP(D83,[1]교과목표1!$B$2:$Q$301,16,0) -> 수)14:00∼17:00 | N83: =VLOOKUP(D83,[1]교과목표1!$B$2:$R$301,17,0) -> - | O83: =VLOOKUP(D83,[1]교과목표1!$B$2:$N$301,13,0) -> 일반강좌 | P83: =VLOOKUP(D83,[1]교과목표1!$B$2:$P$301,15,0) -> 본수강 | Q83: =VLOOKUP(D83,[1]교과목표1!$B$2:$E$301,4,0) -> 비대면
B84: 80 | C84: 교선 | D84: 875 | E84: GS2698 | F84: 데이터과학의이해와활용 | G84: 3 | H84: 공통 | I84: =VLOOKUP(D84,[1]교과목표1!$B$2:$M$301,12,0) -> 온승엽 | J84: =VLOOKUP(D84,[1]교과목표1!$B$2:$G$301,6,0) -> 4.0 | K84: =VLOOKUP(D84,[1]교과목표1!$B$2:$H$301,7,0) -> 2 | L84: =VLOOKUP(D84,[1]교과목표1!$B$2:$I$301,8,0) -> 2 | M84: =VLOOKUP(D84,[1]교과목표1!$B$2:$Q$301,16,0) -> 수)14:00∼18:00 | N84: =VLOOKUP(D84,[1]교과목표1!$B$2:$R$301,17,0) -> - | O84: =VLOOKUP(D84,[1]교과목표1!$B$2:$N$301,13,0) -> FL | P84: =VLOOKUP(D84,[1]교과목표1!$B$2:$P$301,15,0) -> 본/재수강 | Q84: =VLOOKUP(D84,[1]교과목표1!$B$2:$E$301,4,0) -> 블렌디드
B85: 81 | C85: 교선 | D85: 879 | E85: GS2593 | F85: Gender Studies | G85: 3 | H85: 공통 | I85: =VLOOKUP(D85,[1]교과목표1!$B$2:$M$301,12,0) -> 썸머브룩리 | J85: =VLOOKUP(D85,[1]교과목표1!$B$2:$G$301,6,0) -> 3.0 | K85: =VLOOKUP(D85,[1]교과목표1!$B$2:$H$301,7,0) -> 3 | L85: =VLOOKUP(D85,[1]교과목표1!$B$2:$I$301,8,0) -> 0 | M85: =VLOOKUP(D85,[1]교과목표1!$B$2:$Q$301,16,0) -> 월)12:00∼13:30 / 수)12:00∼13:30 | N85: =VLOOKUP(D85,[1]교과목표1!$B$2:$R$301,17,0) -> - / - | O85: =VLOOKUP(D85,[1]교과목표1!$B$2:$N$301,13,0) -> 영어강좌 | P85: =VLOOKUP(D85,[1]교과목표1!$B$2:$P$301,15,0) -> 본/재수강 | Q85: =VLOOKUP(D85,[1]교과목표1!$B$2:$E$301,4,0) -> 비대면
B86: 82 | C86: 교선 | D86: 881 | E86: GS2510 | F86: 국가안보론 | G86: 3 | H86: 공통 | I86: =VLOOKUP(D86,[1]교과목표1!$B$2:$M$301,12,0) | J86: =VLOOKUP(D86,[1]교과목표1!$B$2:$G$301,6,0) -> 3.0 | K86: =VLOOKUP(D86,[1]교과목표1!$B$2:$H$301,7,0) -> 3 | L86: =VLOOKUP(D86,[1]교과목표1!$B$2:$I$301,8,0) -> 0 | M86: =VLOOKUP(D86,[1]교과목표1!$B$2:$Q$301,16,0) -> 월)13:30∼15:00 / 수)15:00∼16:30 | N86: =VLOOKUP(D86,[1]교과목표1!$B$2:$R$301,17,0) -> - / - | O86: =VLOOKUP(D86,[1]교과목표1!$B$2:$N$301,13,0) -> 일반강좌 | P86: =VLOOKUP(D86,[1]교과목표1!$B$2:$P$301,15,0) -> 본/재수강 | Q86: =VLOOKUP(D86,[1]교과목표1!$B$2:$E$301,4,0) -> 비대면
