Workbook
Name __DemandLoad: TRUE
Name _0.036_1.5: #REF!
Name _0.08_1.5: #REF!
Name _000GJ: 0
Name _000JJ: 5310
Name _000JN: 4815183
Name _000KB: 0
Name _01: #REF!
Name _02: #REF!
Name _03: #REF!
Name _1: #N/A
Name _1_: #N/A
Name _10: #N/A
Name _11: #N/A
Name _12: #N/A
Name _12a1_: #REF!
Name _13: #N/A
Name _14: #N/A
Name _15: #N/A
Name _16: #N/A
Name _16a2_: #REF!
Name _17: #N/A
Name _18: #N/A
Name _19: #N/A
Name _1공장: #REF!
Name _1공장: #REF!
Name _1공장: #REF!
Name _1공장: #REF!
Name _2: #N/A
Name _20: #N/A
Name _20a3_: #REF!
Name _21: #N/A
Name _22: #N/A
Name _23: #N/A
Name _24: #N/A
Name _25: #N/A
Name _26: #N/A
Name _27: #N/A
Name _28: #N/A
Name _29: #N/A
Name _2공장: #REF!
Name _2공장: #REF!
Name _2공장: #REF!
Name _2공장: #REF!
Name _3: #N/A
Name _30: #N/A
Name _31: #N/A
Name _32: #N/A
Name _32G__Extr: #REF!
Name _33: #N/A
Name _34: #N/A
Name _35: #N/A
Name _35G__Extract: #REF!
Name _36: #N/A
Name _37: #N/A
Name _38: #N/A
Name _39: #N/A
Name _3공장: #REF!
Name _3공장: #REF!
Name _3공장: #REF!

Sheet 원가계산서
A1: 산 출 내 역 서
A2: [ 한국항공대학교 학생회관 1층 현관로비 확장 ]
A3: 비 목 | D3: 금 액 | E3: 구 성 비 | F3: 비 고
A4: 순 공 사 원 가 | B4: 재 료 비 | C4: 직 접 재 료 비 | D4: =공종별집계표!F5 -> 0
C5: 간 접 재 료 비 | D5: 0
C6: 작 업 부 산 물
C7: [ 소 계 ] | D7: =TRUNC(D4+D5+D6, 0) -> 0
B8: 노 무 비 | C8: 직 접 노 무 비 | D8: =공종별집계표!H5 -> 0
C9: 간 접 노 무 비 | D9: =TRUNC(D8*0.08, 0) -> 0 | E9: 직접노무비 * 8%
C10: [ 소 계 ] | D10: =TRUNC(D8+D9, 0) -> 0
B11: 경 비 | C11: 기 계 경 비 | D11: =공종별집계표!J5 -> 0
C12: 산 재 보 험 료 | D12: =TRUNC(D10*0.037, 0) -> 0 | E12: 노무비 * 3.70%
C13: 고 용 보 험 료 | D13: =TRUNC(D10*0.0087, 0) -> 0 | E13: 노무비 * 0.87%
C14: 국민 건강 보험료 | D14: 505959 | E14: 직접노무비 * 3.43% | F14: 조정없이 반영
C15: 국민 연금 보험료 | D15: 663794 | E15: 직접노무비 * 4.5% | F15: 조정없이 반영
C16: 노인장기요양보험료 | D16: 58286 | E16: 건강보험료 * 11.52% | F16: 조정없이 반영
C17: 퇴직 공제 부금비 | E17: 직접노무비 * 2.3% | F17: 법정 해당시 포함
C18: 산업안전보건관리비 | D18: 1088993 | E18: (재료비+직노) * 2.93% | F18: 조정없이 반영
C19: 환 경 보 전 비 | D19: =TRUNC((D7+D8+D11)*0.003, 0) -> 0 | E19: (재료비+직노+기계경비) * 0.3% | F19: 법정 해당시 포함
C20: 기 타 경 비 | D20: =TRUNC((D7+D10)*0.056, 0) -> 0 | E20: (재료비+노무비) * 5.6%
C21: 하도급지급보증수수료 | D21: =TRUNC((D7+D8+D11)*0.00081, 0) -> 0 | E21: (재료비+직노+기계경비) * 0.081% | F21: '법정 해당시 포함
C22: 건설기계대여금지급보증서발급수수료 | D22: =TRUNC((D7+D8+D11)*0.0007, 0) -> 0 | E22: (재료비+직노+기계경비) * 0.07% | F22: '법정 해당시 포함
C23: [ 소 계 ] | D23: =TRUNC(D11+D12+D13+D14+D15+D17+D18+D16+D20+D19+D21+D22, 0) -> 2317032
A24: 계 | D24: =TRUNC(D7+D10+D23, 0) -> 2317032
A25: 일 반 관 리 비 | D25: =TRUNC(D24*0.06, 0) -> 139021 | E25: 계 * 6%
A26: 이 윤 | D26: =TRUNC(D10+D23+D25)*0.15 -> 368407.95 | E26: (노무비+경비+일반관리비) *15%
A27: 폐기물 처리비
A29: 공 급 가 액 | D29: =TRUNC(D24+D25+D26+D27+D28, 0) -> 2824460
A30: 부 가 가 치 세 | D30: =TRUNC(D29*0.1, 0) -> 282446 | E30: 공급가액 * 10%
A31: 도 급 액 | D31: =TRUNC(D29+D30, 0) -> 3106906
A32: 총 공 사 비 | D32: =TRUNC(D31+0, 0) -> 3106906

Sheet 공종별집계표
A1: 공 종 별 집 계 표
A2: =원가계산서!A2 -> [ 한국항공대학교 학생회관 1층 현관로비 확장 ]
A3: 품 명 | B3: 규 격 | C3: 단위 | D3: 수량 | E3: 재 료 비 | G3: 노 무 비 | I3: 경 비 | K3: 합 계 | M3: 비 고
E4: 단 가 | F4: 금 액 | G4: 단 가 | H4: 금 액 | I4: 단 가 | J4: 금 액 | K4: 단 가 | L4: 금 액
A5: =건축공종별내역서!A4 -> 1. 현관로비 확장공사 | B5: =건축공종별내역서!B4 -> 학생회관 1층 | F5: =건축공종별내역서!F28 -> 0 | H5: =건축공종별내역서!H28 -> 0 | J5: =건축공종별내역서!J28 -> 0 | L5: =건축공종별내역서!L28 -> 0
A27: [ 합 계 ] | F27: =SUM(F5:F26) -> 0 | H27: =SUM(H5:H26) -> 0 | J27: =SUM(J5:J26) -> 0 | L27: =SUM(L5:L26) -> 0

Sheet 건축공종별내역서
A1: =공종별집계표!A2 -> [ 한국항공대학교 학생회관 1층 현관로비 확장 ]
A2: 품 명 | B2: 규 격 | C2: 단위 | D2: 수량 | E2: 재 료 비 | G2: 노 무 비 | I2: 경 비 | K2: 합 계 | M2: 비 고
E3: 단 가 | F3: 금 액 | G3: 단 가 | H3: 금 액 | I3: 단 가 | J3: 금 액 | K3: 단 가 | L3: 금 액
A4: 1. 현관로비 확장공사 | B4: 학생회관 1층
A5: 스텐유리칸막이 철거 | C5: 식 | D5: 1 | F5: =TRUNC(E5*D5, 0) -> 0 | H5: =TRUNC(G5*D5, 0) -> 0 | J5: =TRUNC(I5*D5, 0) -> 0 | K5: =TRUNC(E5+G5+I5, 0) -> 0 | L5: =TRUNC(F5+H5+J5, 0) -> 0
A6: 스펜드럴 철거 | C6: ㎡ | D6: 65 | F6: =TRUNC(E6*D6, 0) -> 0 | H6: =TRUNC(G6*D6, 0) -> 0 | J6: =TRUNC(I6*D6, 0) -> 0 | K6: =TRUNC(E6+G6+I6, 0) -> 0 | L6: =TRUNC(F6+H6+J6, 0) -> 0
A7: 강관 조립말비계(이동식)설치 및 해체 | B7: 높이 2m, 1개월 | C7: 대 | D7: 10 | F7: =TRUNC(E7*D7, 0) -> 0 | H7: =TRUNC(G7*D7, 0) -> 0 | J7: =TRUNC(I7*D7, 0) -> 0 | K7: =TRUNC(E7+G7+I7, 0) -> 0 | L7: =TRUNC(F7+H7+J7, 0) -> 0
A8: 현장정리비 | B8: 철거주위 사춤포함 | C8: ㎡ | D8: 80 | F8: =TRUNC(E8*D8, 0) -> 0 | H8: =TRUNC(G8*D8, 0) -> 0 | J8: =TRUNC(I8*D8, 0) -> 0 | K8: =TRUNC(E8+G8+I8, 0) -> 0 | L8: =TRUNC(F8+H8+J8, 0) -> 0
A9: 자동문-1(슬라이딩타입, 주현관) | B9: 3600*2100, 스텐헤어라인, 8T 투명유리(FIX) | C9: 개소 | D9: 1 | F9: =TRUNC(E9*D9, 0) -> 0 | H9: =TRUNC(G9*D9, 0) -> 0 | J9: =TRUNC(I9*D9, 0) -> 0 | K9: =TRUNC(E9+G9+I9, 0) -> 0 | L9: =TRUNC(F9+H9+J9, 0) -> 0
A10: 강화유리도어(도어 2개소 포함) | B10: 11,400*3,000, 스텐헤어라인, 9T(FIX),12T칼라유리도어 | C10: 개소 | D10: 1 | F10: =TRUNC(E10*D10, 0) -> 0 | H10: =TRUNC(G10*D10, 0) -> 0 | J10: =TRUNC(I10*D10, 0) -> 0 | K10: =TRUNC(E10+G10+I10, 0) -> 0 | L10: =TRUNC(F10+H10+J10, 0) -> 0
A11: 철재천장구조틀 설치 | B11: ㅁ-100*100*2.3T 외 | C11: ㎡ | D11: 36 | F11: =TRUNC(E11*D11, 0) -> 0 | H11: =TRUNC(G11*D11, 0) -> 0 | J11: =TRUNC(I11*D11, 0) -> 0 | K11: =TRUNC(E11+G11+I11, 0) -> 0 | L11: =TRUNC(F11+H11+J11, 0) -> 0
A12: AL스팬드럴 설치 | B12: AL스팬드럴 신설 | C12: ㎡ | D12: 36 | F12: =TRUNC(E12*D12, 0) -> 0 | H12: =TRUNC(G12*D12, 0) -> 0 | J12: =TRUNC(I12*D12, 0) -> 0 | K12: =TRUNC(E12+G12+I12, 0) -> 0 | L12: =TRUNC(F12+H12+J12, 0) -> 0
A13: 각파이프위 샌드위치판넬 | B13: 50T | C13: ㎡ | D13: 64 | F13: =TRUNC(E13*D13, 0) -> 0 | H13: =TRUNC(G13*D13, 0) -> 0 | J13: =TRUNC(I13*D13, 0) -> 0 | K13: =TRUNC(E13+G13+I13, 0) -> 0 | L13: =TRUNC(F13+H13+J13, 0) -> 0
A14: 샌드위치판넬 위 인조잔디깔기 | B14: 25mm | C14: ㎡ | D14: 32 | F14: =TRUNC(E14*D14, 0) -> 0 | H14: =TRUNC(G14*D14, 0) -> 0 | J14: =TRUNC(I14*D14, 0) -> 0 | K14: =TRUNC(E14+G14+I14, 0) -> 0 | L14: =TRUNC(F14+H14+J14, 0) -> 0
A15: 갈바프레임 설치 | B15: 100*200*1.2T, 천장주위 | C15: m | D15: 32 | F15: =TRUNC(E15*D15, 0) -> 0 | H15: =TRUNC(G15*D15, 0) -> 0 | J15: =TRUNC(I15*D15, 0) -> 0 | K15: =TRUNC(E15+G15+I15, 0) -> 0 | L15: =TRUNC(F15+H15+J15, 0) -> 0
A16: 경량철골 천장틀 | B16: M-BAR TYPE | C16: ㎡ | D16: 44 | F16: =TRUNC(E16*D16, 0) -> 0 | H16: =TRUNC(G16*D16, 0) -> 0 | J16: =TRUNC(I16*D16, 0) -> 0 | K16: =TRUNC(E16+G16+I16, 0) -> 0 | L16: =TRUNC(F16+H16+J16, 0) -> 0
A17: 석고보드붙임 | B17: 2PLY, 천장 | C17: ㎡ | D17: 112 | F17: =TRUNC(E17*D17, 0) -> 0 | H17: =TRUNC(G17*D17, 0) -> 0 | J17: =TRUNC(I17*D17, 0) -> 0 | K17: =TRUNC(E17+G17+I17, 0) -> 0 | L17: =TRUNC(F17+H17+J17, 0) -> 0
A18: AL.몰딩 | C18: m | D18: 30 | F18: =TRUNC(E18*D18, 0) -> 0 | H18: =TRUNC(G18*D18, 0) -> 0 | J18: =TRUNC(I18*D18, 0) -> 0 | K18: =TRUNC(E18+G18+I18, 0) -> 0 | L18: =TRUNC(F18+H18+J18, 0) -> 0
A19: 조합페인트칠 | B19: 2회, 지정색 | C19: ㎡ | D19: 10 | F19: =TRUNC(E19*D19, 0) -> 0 | H19: =TRUNC(G19*D19, 0) -> 0 | J19: =TRUNC(I19*D19, 0) -> 0 | K19: =TRUNC(E19+G19+I19, 0) -> 0 | L19: =TRUNC(F19+H19+J19, 0) -> 0
A20: 수성페인트칠(본타일) | B20: 광택스 2회, 지정색 | C20: ㎡ | D20: 120 | F20: =TRUNC(E20*D20, 0) -> 0 | H20: =TRUNC(G20*D20, 0) -> 0 | J20: =TRUNC(I20*D20, 0) -> 0 | K20: =TRUNC(E20+G20+I20, 0) -> 0 | L20: =TRUNC(F20+H20+J20, 0) -> 0
A21: 비닐페인트칠 | B21: 2회, 탑코팅, 지정색 | C21: ㎡ | D21: 44 | F21: =TRUNC(E21*D21, 0) -> 0 | H21: =TRUNC(G21*D21, 0) -> 0 | K21: =TRUNC(E21+G21+I21, 0) -> 0 | L21: =TRUNC(F21+H21+J21, 0) -> 0
A22: 화강석 물갈기 철거&설치 | B22: T30포천석 | C22: ㎡ | D22: 17 | F22: =TRUNC(E22*D22, 0) -> 0 | H22: =TRUNC(G22*D22, 0) -> 0 | J22: =TRUNC(I22*D22, 0) -> 0 | K22: =TRUNC(E22+G22+I22, 0) -> 0 | L22: =TRUNC(F22+H22+J22, 0) -> 0
A23: 자재소운반 | B23: 보통인부 | C23: 식 | D23: 1 | F23: =TRUNC(E23*D23, 0) -> 0 | H23: =TRUNC(G23*D23, 0) -> 0 | J23: =TRUNC(I23*D23, 0) -> 0 | K23: =TRUNC(E23+G23+I23, 0) -> 0 | L23: =TRUNC(F23+H23+J23, 0) -> 0
A24: 폐기물처리 | C24: 식 | D24: 1 | H24: =TRUNC(G24*D24, 0) -> 0 | J24: =TRUNC(I24*D24, 0) -> 0 | K24: =TRUNC(E24+G24+I24, 0) -> 0 | L24: =TRUNC(F24+H24+J24, 0) -> 0
A25: 준공청소 | C25: ㎡ | D25: 80
F26: =TRUNC(E26*D26, 0) -> 0 | H26: =TRUNC(G26*D26, 0) -> 0 | J26: =TRUNC(I26*D26, 0) -> 0 | K26: =TRUNC(E26+G26+I26, 0) -> 0 | L26: =TRUNC(F26+H26+J26, 0) -> 0
A27: 냉난방기 설치 | C27: 식 | D27: 1
F28: =SUM(F5:F27) -> 0 | H28: =SUM(H5:H27) -> 0 | J28: =SUM(J5:J27) -> 0 | L28: =SUM(L5:L27) -> 0
