Workbook

Sheet 학점교류
B2: 학점교류 교과목표
B3: 2023학년도 1학기 | H3: 기초교양교육원/영어교육원
B4: 연번 | C4: 이수 구분 | D4: 과목번호 | E4: 학수코드 | F4: 교과목명 | G4: 학점 | H4: 학년 | I4: 비고 | J4: 개설전공
B5: 1 | C5: 교필 | D5: 0015 | E5: GS1107 | F5: 항공우주학개론 | G5: 2 | H5: 1 | I5: =VLOOKUP(D5,Sheet1!$C:$E,3,FALSE) -> 항공우주학개론
B6: 2 | C6: 교필 | D6: 0016 | E6: GS1107 | F6: 항공우주학개론 | G6: 2 | H6: 1 | I6: =VLOOKUP(D6,Sheet1!$C:$E,3,FALSE) -> 항공우주학개론
B7: 3 | C7: 교필 | D7: 0017 | E7: GS1107 | F7: 항공우주학개론 | G7: 2 | H7: 1 | I7: =VLOOKUP(D7,Sheet1!$C:$E,3,FALSE) -> 항공우주학개론
B8: 4 | C8: 교필 | D8: 0018 | E8: GS1107 | F8: 항공우주학개론 | G8: 2 | H8: 1 | I8: =VLOOKUP(D8,Sheet1!$C:$E,3,FALSE) -> 항공우주학개론
B9: 5 | C9: 교필 | D9: 0462 | E9: GS1107 | F9: 항공우주학개론 | G9: 2 | H9: 1 | I9: =VLOOKUP(D9,Sheet1!$C:$E,3,FALSE) -> 항공우주학개론
B10: 6 | C10: 교필 | D10: 0463 | E10: GS1107 | F10: 항공우주학개론 | G10: 2 | H10: 1 | I10: =VLOOKUP(D10,Sheet1!$C:$E,3,FALSE) -> 항공우주학개론
B11: 7 | C11: 교필 | D11: 0069 | E11: GS1142 | F11: 기업가정신 | G11: 2 | H11: 1 | I11: =VLOOKUP(D11,Sheet1!$C:$E,3,FALSE) -> 기업가정신
B12: 8 | C12: 교필 | D12: 0070 | E12: GS1142 | F12: 기업가정신 | G12: 2 | H12: 1 | I12: =VLOOKUP(D12,Sheet1!$C:$E,3,FALSE) -> 기업가정신
B13: 9 | C13: 교필 | D13: 0071 | E13: GS1142 | F13: 기업가정신 | G13: 2 | H13: 1 | I13: =VLOOKUP(D13,Sheet1!$C:$E,3,FALSE) -> 기업가정신
B14: 10 | C14: 교필 | D14: 0072 | E14: GS2491 | F14: 항공우주산업개론 | G14: 2 | H14: 1 | I14: =VLOOKUP(D14,Sheet1!$C:$E,3,FALSE) -> 항공우주산업개론
B15: 11 | C15: 교필 | D15: 0073 | E15: GS2491 | F15: 항공우주산업개론 | G15: 2 | H15: 1 | I15: =VLOOKUP(D15,Sheet1!$C:$E,3,FALSE) -> 항공우주산업개론
B16: 12 | C16: 교필 | D16: 0074 | E16: GS2491 | F16: 항공우주산업개론 | G16: 2 | H16: 1 | I16: =VLOOKUP(D16,Sheet1!$C:$E,3,FALSE) -> 항공우주산업개론
... B61: 57 | C61: 교필 | D61: 0151 | E61: RC7102 | F61: 선형대수학 | G61: 3 | H61: 1 | I61: =VLOOKUP(D61,Sheet1!$C:$E,3,FALSE) -> 선형대수학
B62: 58 | C62: 교선 | D62: 0152 | E62: GS2006 | F62: 사회학의 이해 | G62: 3 | H62: 공통 | I62: =VLOOKUP(D62,Sheet1!$C:$E,3,FALSE) -> 사회학의 이해
B63: 59 | C63: 교선 | D63: 0153 | E63: GS2006 | F63: 사회학의 이해 | G63: 3 | H63: 공통 | I63: =VLOOKUP(D63,Sheet1!$C:$E,3,FALSE) -> 사회학의 이해
B64: 60 | C64: 교선 | D64: 0154 | E64: GS2007 | F64: 심리학의 이해 | G64: 3 | H64: 공통 | I64: =VLOOKUP(D64,Sheet1!$C:$E,3,FALSE) -> 심리학의 이해
B65: 61 | C65: 교선 | D65: 0155 | E65: GS2012 | F65: 천체와 우주의 이해 | G65: 3 | H65: 공통 | I65: =VLOOKUP(D65,Sheet1!$C:$E,3,FALSE) -> 천체와 우주의 이해
B66: 62 | C66: 교선 | D66: 0156 | E66: GS2028 | F66: 한국사탐구 | G66: 3 | H66: 공통 | I66: =VLOOKUP(D66,Sheet1!$C:$E,3,FALSE) -> 한국사탐구
B67: 63 | C67: 교선 | D67: 0157 | E67: GS2031 | F67: 한국고전문학산책 | G67: 3 | H67: 공통 | I67: =VLOOKUP(D67,Sheet1!$C:$E,3,FALSE) -> 한국고전문학산책
B68: 64 | C68: 교선 | D68: 0158 | E68: GS2033 | F68: 정치의 이론과 실제 | G68: 3 | H68: 공통 | I68: =VLOOKUP(D68,Sheet1!$C:$E,3,FALSE) -> 정치의이론과실제
B69: 65 | C69: 교선 | D69: 0159 | E69: GS2034 | F69: 현대경제의 기초원리 | G69: 3 | H69: 공통 | I69: =VLOOKUP(D69,Sheet1!$C:$E,3,FALSE) -> 현대경제의기초원리
B70: 66 | C70: 교선 | D70: 0160 | E70: GS2037 | F70: 생물학의 이해 | G70: 3 | H70: 공통 | I70: =VLOOKUP(D70,Sheet1!$C:$E,3,FALSE) -> 생물학의이해
B71: 67 | C71: 교선 | D71: 0161 | E71: GS2044 | F71: 글로벌영어와 문화 | G71: 3 | H71: 공통 | I71: =VLOOKUP(D71,Sheet1!$C:$E,3,FALSE) -> 글로벌영어와문화
B72: 68 | C72: 교선 | D72: 0167 | E72: GS2259 | F72: 실용한자와 한문 | G72: 3 | H72: 공통 | I72: =VLOOKUP(D72,Sheet1!$C:$E,3,FALSE) -> 실용한자와 한문
B73: 69 | C73: 교선 | D73: 0168 | E73: GS2509 | F73: 법의 이해 | G73: 3 | H73: 공통 | I73: =VLOOKUP(D73,Sheet1!$C:$E,3,FALSE) -> 법의 이해
... B107: 103 | C107: 교선 | D107: 0216 | E107: GS2764 | F107: 분쟁과 재판 | G107: 3 | H107: 공통 | I107: =VLOOKUP(D107,Sheet1!$C:$E,3,FALSE) -> 분쟁과 재판

Sheet Sheet1
A1: 2023학년도 1학기 학점교류 교과목
A2: 연번 | B2: 이수구분 | C2: 과목번호 | D2: 학수코드 | E2: 교과목명 | F2: 학점 | G2: 학년 | H2: 담당교수 | I2: 강의시수 | J2: 이론시간 | K2: 실습시간 | L2: 강좌유형 | M2: 개설전공 | N2: 요일/강의시간
A3: 1 | B3: 교선 | C3: 0078 | D3: GS2714 | E3: 미분적분학 | F3: 3 | G3: 1 | H3: 강오진 | I3: 3 | J3: 3 | K3: 0 | L3: 일반강좌 | M3: 인문자연학부 | N3: 금)10:00∼13:00
A4: 2 | B4: 교선 | C4: 0149 | D4: GS2723 | E4: 현대물리학 | F4: 3 | G4: 2 | H4: 유병길 | I4: 3 | J4: 3 | K4: 0 | L4: FL | M4: 인문자연학부 | N4: 금)10:00∼13:00
A5: 3 | B5: 교선 | C5: 0152 | D5: GS2006 | E5: 사회학의 이해 | F5: 3 | G5: 공통 | H5: 우실하 | I5: 3 | J5: 3 | K5: 0 | L5: 일반강좌 | M5: 인문자연학부 | N5: 화)13:30∼15:00 / 목)15:00∼16:30
A6: 4 | B6: 교선 | C6: 0153 | D6: GS2006 | E6: 사회학의 이해 | F6: 3 | G6: 공통 | H6: 우실하 | I6: 3 | J6: 3 | K6: 0 | L6: 일반강좌 | M6: 인문자연학부 | N6: 화)15:00∼16:30 / 목)13:30∼15:00
A7: 5 | B7: 교선 | C7: 0154 | D7: GS2007 | E7: 심리학의 이해 | F7: 3 | G7: 공통 | H7: 김이준 | I7: 3 | J7: 3 | K7: 0 | L7: 일반강좌 | M7: 인문자연학부 | N7: 월)13:30∼15:00 / 수)10:30∼12:00
A8: 6 | B8: 교선 | C8: 0155 | D8: GS2012 | E8: 천체와 우주의 이해 | F8: 3 | G8: 공통 | H8: 최기석 | I8: 3 | J8: 3 | K8: 0 | L8: 일반강좌 | M8: 인문자연학부 | N8: 월)13:30∼15:00 / 수)13:30∼15:00
A9: 7 | B9: 교선 | C9: 0156 | D9: GS2028 | E9: 한국사탐구 | F9: 3 | G9: 공통 | H9: 홍인국 | I9: 3 | J9: 3 | K9: 0 | L9: 일반강좌 | M9: 인문자연학부 | N9: 월)14:00∼17:00
A10: 8 | B10: 교선 | C10: 0157 | D10: GS2031 | E10: 한국고전문학산책 | F10: 3 | G10: 공통 | H10: 송미경 | I10: 3 | J10: 3 | K10: 0 | L10: FL | M10: 인문자연학부 | N10: 월)13:30∼15:00 / 수)10:30∼12:00
A11: 9 | B11: 교선 | C11: 0158 | D11: GS2033 | E11: 정치의이론과실제 | F11: 3 | G11: 공통 | H11: 이지윤 | I11: 3 | J11: 3 | K11: 0 | L11: 일반강좌 | M11: 인문자연학부 | N11: 수)10:00∼13:00
A12: 10 | B12: 교선 | C12: 0159 | D12: GS2034 | E12: 현대경제의기초원리 | F12: 3 | G12: 공통 | H12: 함선미 | I12: 3 | J12: 3 | K12: 0 | L12: 일반강좌 | M12: 인문자연학부 | N12: 수)13:00∼16:00
A13: 11 | B13: 교선 | C13: 0160 | D13: GS2037 | E13: 생물학의이해 | F13: 3 | G13: 공통 | H13: 정인숙 | I13: 3 | J13: 3 | K13: 0 | L13: 일반강좌 | M13: 인문자연학부 | N13: 화)09:00∼12:00
A14: 12 | B14: 교선 | C14: 0161 | D14: GS2044 | E14: 글로벌영어와문화 | F14: 3 | G14: 공통 | H14: 공은정 | I14: 3 | J14: 3 | K14: 0 | L14: FL | M14: 인문자연학부 | N14: 월)15:00∼16:30 / 수)15:00∼16:30
A15: 13 | B15: 교선 | C15: 0167 | D15: GS2259 | E15: 실용한자와 한문 | F15: 3 | G15: 공통 | H15: 이권 | I15: 3 | J15: 3 | K15: 0 | L15: 일반강좌 | M15: 인문자연학부 | N15: 목)15:00∼18:00
A16: 14 | B16: 교선 | C16: 0168 | D16: GS2509 | E16: 법의 이해 | F16: 3 | G16: 공통 | H16: 김선이 | I16: 3 | J16: 3 | K16: 0 | L16: 일반강좌 | M16: 인문자연학부 | N16: 화)10:30∼12:00 / 목)13:30∼15:00
... A18: 16 | B18: 교선 | C18: 0171 | D18: GS2510 | E18: 국가안보론 | F18: 3 | G18: 공통 | H18: 최현국 | I18: 3 | J18: 3 | K18: 0 | L18: 일반강좌 | M18: 인문자연학부 | N18: 화)10:30∼13:30
A19: 17 | B19: 교선 | C19: 0172 | D19: GS2513 | E19: 한국근현대사 | F19: 3 | G19: 공통 | I19: 3 | J19: 3 | K19: 0 | L19: 일반강좌 | M19: 인문자연학부 | N19: 목)10:00∼13:00
A20: 18 | B20: 교선 | C20: 0178 | D20: GS2546 | E20: 요하문명의 이해 | F20: 3 | G20: 공통 | H20: 우실하 | I20: 3 | J20: 3 | K20: 0 | L20: 일반강좌 | M20: 인문자연학부 | N20: 금)10:00∼13:00
A21: 19 | B21: 교선 | C21: 0179 | D21: GS2562 | E21: 창업아이템 개발 | F21: 2 | G21: 공통 | H21: 원상필 | I21: 2 | J21: 2 | K21: 0 | L21: FL | M21: 인문자연학부 | N21: 수)12:00∼14:00
A22: 20 | B22: 교선 | C22: 0180 | D22: GS2563 | E22: 자본시장의 이해와 창업 | F22: 2 | G22: 공통 | H22: 원상필 | I22: 2 | J22: 2 | K22: 0 | L22: FL | M22: 인문자연학부 | N22: 수)10:00∼12:00
A23: 21 | B23: 교선 | C23: 0182 | D23: GS2571 | E23: 동양철학의 이해 | F23: 3 | G23: 공통 | H23: 조정은 | I23: 3 | J23: 3 | K23: 0 | L23: FL | M23: 인문자연학부 | N23: 월)13:30∼15:00 / 수)10:30∼12:00
A24: 22 | B24: 교선 | C24: 0183 | D24: GS2572 | E24: 글로벌문화와 소통 | F24: 3 | G24: 공통 | H24: 김윤희 | I24: 3 | J24: 3 | K24: 0 | L24: 일반강좌 | M24: 인문자연학부 | N24: 화)10:30∼13:30
A25: 23 | B25: 교선 | C25: 0184 | D25: GS2575 | E25: 공연예술의 이해 | F25: 3 | G25: 공통 | H25: 송치혁 | I25: 3 | J25: 3 | K25: 0 | L25: 일반강좌 | M25: 인문자연학부 | N25: 목)13:00∼16:00
A26: 24 | B26: 교선 | C26: 0186 | D26: GS2642 | E26: 논증과추리 | F26: 3 | G26: 공통 | H26: 황호원 | I26: 3 | J26: 3 | K26: 0 | L26: 일반강좌 | M26: 인문자연학부 | N26: 화)12:00∼13:30 / 수)10:30∼12:00
A27: 25 | B27: 교선 | C27: 0190 | D27: GS2675 | E27: 전쟁사 | F27: 3 | G27: 공통 | H27: 진광수 | I27: 3 | J27: 3 | K27: 0 | L27: 일반강좌 | M27: 인문자연학부 | N27: 수)10:30∼13:30
A28: 26 | B28: 교선 | C28: 0191 | D28: GS2685 | E28: 라틴아메리카의 문화 | F28: 3 | G28: 공통 | H28: 조혜진 | I28: 3 | J28: 3 | K28: 0 | L28: 일반강좌 | M28: 인문자연학부 | N28: 수)14:00∼17:00
A29: 27 | B29: 교선 | C29: 0192 | D29: GS2693 | E29: 서양철학의 거장들 | F29: 3 | G29: 공통 | H29: 정성관 | I29: 3 | J29: 3 | K29: 0 | L29: 일반강좌 | M29: 인문자연학부 | N29: 수)15:00∼18:00
A30: 28 | B30: 교선 | C30: 0193 | D30: GS2694 | E30: 세계사탐구 | F30: 3 | G30: 공통 | I30: 3 | J30: 3 | K30: 0 | L30: 일반강좌 | M30: 인문자연학부 | N30: 화)15:00∼18:00
A31: 29 | B31: 교선 | C31: 0194 | D31: GS2695 | E31: 과학기술시대 인간의 이해 | F31: 3 | G31: 공통 | H31: 정성관 | I31: 3 | J31: 3 | K31: 0 | L31: PmBL | M31: 인문자연학부 | N31: 수)12:00∼15:00
A32: 30 | B32: 교선 | C32: 0195 | D32: GS2702 | E32: 창의적 음악과 소통 | F32: 3 | G32: 공통 | H32: 이원 | I32: 3 | J32: 3 | K32: 0 | L32: FL | M32: 인문자연학부 | N32: 화)13:30∼16:30
A33: 31 | B33: 교선 | C33: 0196 | D33: GS2711 | E33: 북미문화와 진로탐색 | F33: 3 | G33: 공통 | H33: 이승열 | I33: 3 | J33: 3 | K33: 0 | L33: 일반강좌 | M33: 인문자연학부 | N33: 화)14:00∼17:00
A34: 32 | B34: 교선 | C34: 0197 | D34: GS2717 | E34: 4차산업혁명과 사회 | F34: 3 | G34: 공통 | H34: 최일규 | I34: 3 | J34: 3 | K34: 0 | L34: 일반강좌 | M34: 인문자연학부 | N34: 금)09:00∼12:00
A35: 33 | B35: 교선 | C35: 0198 | D35: GS2718 | E35: 회계와사회 | F35: 3 | G35: 공통 | H35: 전종문 | I35: 3 | J35: 3 | K35: 0 | L35: 일반강좌 | M35: 인문자연학부 | N35: 월)10:00∼13:00
A36: 34 | B36: 교선 | C36: 0199 | D36: GS2720 | E36: 현대사회와 윤리문제 | F36: 3 | G36: 공통 | H36: 조정은 | I36: 3 | J36: 3 | K36: 0 | L36: FL | M36: 인문자연학부 | N36: 금)09:00∼10:30 / 금)10:30∼12:00
A37: 35 | B37: 교선 | C37: 0200 | D37: GS2721 | E37: 언어와 사회문화 | F37: 3 | G37: 공통 | H37: 공은정 | I37: 3 | J37: 3 | K37: 0 | L37: FL | M37: 인문자연학부 | N37: 화)10:30∼12:00 / 목)10:30∼12:00
A38: 36 | B38: 교선 | C38: 0202 | D38: GS2728 | E38: 나를 위한 성장의 심리학 | F38: 3 | G38: 공통 | H38: 김이준 | I38: 3 | J38: 3 | K38: 0 | L38: FL | M38: 인문자연학부 | N38: 월)10:30∼12:00 / 수)15:00∼16:30
A39: 37 | B39: 교선 | C39: 0203 | D39: GS2729 | E39: R과 함께하는 기초통계 | F39: 3 | G39: 공통 | H39: 박영자 | I39: 3 | J39: 3 | K39: 0 | L39: 일반강좌 | M39: 인문자연학부 | N39: 수)16:30∼18:00 / 금)16:30∼18:00
A40: 38 | B40: 교선 | C40: 0205 | D40: GS2731 | E40: 젊은 세대를 위한『논어』 | F40: 3 | G40: 공통 | H40: 조정은 | I40: 3 | J40: 3 | K40: 0 | L40: FL | M40: 인문자연학부 | N40: 월)10:30∼12:00 / 수)15:00∼16:30
A41: 39 | B41: 교선 | C41: 0206 | D41: GS2733 | E41: 서양미술감상 | F41: 3 | G41: 공통 | H41: 이화진 | I41: 3 | J41: 3 | K41: 0 | L41: FL | M41: 인문자연학부 | N41: 금)12:00∼13:30
A42: 40 | B42: 교선 | C42: 0207 | D42: GS2734 | E42: 일본문학의 이해 | F42: 3 | G42: 공통 | H42: 김청균 | I42: 3 | J42: 3 | K42: 0 | L42: 일반강좌 | M42: 인문자연학부 | N42: 수)10:30∼13:30
A43: 41 | B43: 교선 | C43: 0208 | D43: GS2739 | E43: 러시아어와 문화 | F43: 3 | G43: 공통 | I43: 3 | J43: 3 | K43: 0 | L43: 일반강좌 | M43: 인문자연학부
A44: 42 | B44: 교선 | C44: 0209 | D44: GS2740 | E44: 프랑스어와 문화 | F44: 3 | G44: 공통 | H44: 김은경 | I44: 3 | J44: 3 | K44: 0 | L44: 일반강좌 | M44: 인문자연학부 | N44: 금)12:00∼15:00
A45: 43 | B45: 교선 | C45: 0210 | D45: GS2741 | E45: 현대중국의 이해 | F45: 3 | G45: 공통 | H45: 이원희 | I45: 3 | J45: 3 | K45: 0 | L45: 일반강좌 | M45: 인문자연학부 | N45: 목)12:00∼15:00
A46: 44 | B46: 교선 | C46: 0211 | D46: GS2742 | E46: 독일어와 문화 | F46: 3 | G46: 공통 | H46: 김양실 | I46: 3 | J46: 3 | K46: 0 | L46: 일반강좌 | M46: 인문자연학부 | N46: 목)10:00∼13:00
A47: 45 | B47: 교선 | C47: 0212 | D47: GS2752 | E47: 색채학개론 | F47: 3 | G47: 공통 | H47: 김예원 | I47: 3 | J47: 3 | K47: 0 | L47: 일반강좌 | M47: 인문자연학부 | N47: 수)10:00∼13:00
A48: 46 | B48: 교선 | C48: 0214 | D48: GS2757 | E48: 미디어의 이해 | F48: 3 | G48: 공통 | H48: 성경환 | I48: 3 | J48: 3 | K48: 0 | L48: 일반강좌 | M48: 인문자연학부 | N48: 월)14:00∼17:00
A49: 47 | B49: 교선 | C49: 0215 | D49: GS2761 | E49: 영화 속의 심리이야기 | F49: 3 | G49: 공통 | H49: 이원철 | I49: 3 | J49: 3 | K49: 0 | L49: 일반강좌 | M49: 인문자연학부 | N49: 월)13:00∼16:00
A50: 48 | B50: 교선 | C50: 0216 | D50: GS2764 | E50: 분쟁과 재판 | F50: 3 | G50: 공통 | H50: 황호원 | I50: 3 | J50: 3 | K50: 0 | L50: 일반강좌 | M50: 인문자연학부 | N50: 화)10:30∼12:00 / 수)15:00∼16:30
A51: 49 | B51: 교필 | C51: 0015 | D51: GS1107 | E51: 항공우주학개론 | F51: 2 | G51: 1 | H51: 안재모 | I51: 2 | J51: 2 | K51: 0 | L51: 일반강좌 | M51: 인문자연학부 | N51: 화)14:00∼16:00
A52: 50 | B52: 교필 | C52: 0016 | D52: GS1107 | E52: 항공우주학개론 | F52: 2 | G52: 1 | H52: 안재모 | I52: 2 | J52: 2 | K52: 0 | L52: 일반강좌 | M52: 인문자연학부 | N52: 수)14:00∼16:00
A53: 51 | B53: 교필 | C53: 0017 | D53: GS1107 | E53: 항공우주학개론 | F53: 2 | G53: 1 | H53: 이창희 | I53: 2 | J53: 2 | K53: 0 | L53: 일반강좌 | M53: 인문자연학부 | N53: 화)11:00∼13:00
A54: 52 | B54: 교필 | C54: 0018 | D54: GS1107 | E54: 항공우주학개론 | F54: 2 | G54: 1 | H54: 이창희 | I54: 2 | J54: 2 | K54: 0 | L54: 일반강좌 | M54: 인문자연학부 | N54: 화)14:00∼16:00
A55: 53 | B55: 교필 | C55: 0069 | D55: GS1142 | E55: 기업가정신 | F55: 2 | G55: 1 | H55: 신동식 | I55: 2 | J55: 2 | K55: 0 | L55: 일반강좌 | M55: 인문자연학부 | N55: 월)14:00∼16:00
A56: 54 | B56: 교필 | C56: 0070 | D56: GS1142 | E56: 기업가정신 | F56: 2 | G56: 1 | H56: 신동식 | I56: 2 | J56: 2 | K56: 0 | L56: 일반강좌 | M56: 인문자연학부 | N56: 수)10:00∼12:00
A57: 55 | B57: 교필 | C57: 0071 | D57: GS1142 | E57: 기업가정신 | F57: 2 | G57: 1 | H57: 신동식 | I57: 2 | J57: 2 | K57: 0 | L57: 일반강좌 | M57: 인문자연학부 | N57: 수)14:00∼16:00
A58: 56 | B58: 교필 | C58: 0072 | D58: GS2491 | E58: 항공우주산업개론 | F58: 2 | G58: 1 | H58: 김동용 | I58: 2 | J58: 2 | K58: 0 | L58: 일반강좌 | M58: 인문자연학부 | N58: 월)11:00∼13:00
A59: 57 | B59: 교필 | C59: 0073 | D59: GS2491 | E59: 항공우주산업개론 | F59: 2 | G59: 1 | H59: 김동용 | I59: 2 | J59: 2 | K59: 0 | L59: 일반강좌 | M59: 인문자연학부 | N59: 화)11:00∼13:00
A60: 58 | B60: 교필 | C60: 0074 | D60: GS2491 | E60: 항공우주산업개론 | F60: 2 | G60: 1 | H60: 김원규 | I60: 2 | J60: 2 | K60: 0 | L60: 일반강좌 | M60: 인문자연학부 | N60: 수)13:00∼15:00
A61: 59 | B61: 교필 | C61: 0075 | D61: GS2491 | E61: 항공우주산업개론 | F61: 2 | G61: 1 | H61: 김원규 | I61: 2 | J61: 2 | K61: 0 | L61: 일반강좌 | M61: 인문자연학부 | N61: 수)15:00∼17:00
A62: 60 | B62: 교필 | C62: 0076 | D62: GS2491 | E62: 항공우주산업개론 | F62: 2 | G62: 1 | H62: 박순천 | I62: 2 | J62: 2 | K62: 0 | L62: 일반강좌 | M62: 인문자연학부 | N62: 월)14:00∼16:00
... A105: 103 | B105: 교필 | C105: 0463 | D105: GS1107 | E105: 항공우주학개론 | F105: 2 | G105: 1 | H105: 김기홍 | I105: 2 | J105: 2 | K105: 0 | L105: 일반강좌 | M105: 인문자연학부 | N105: 목)14:00∼16:00
