Workbook

Sheet 표지(견적서)
A1: 표지부
A3: ※ 회사 서식에 따른 견적서 첨부
A4: - 담당자 휴대전화, 이메일 정보 포함
A5: ※ 금액은 부가세, 국내외 운송료, 필요 법정경비, 부대비용 등 일체를 포함한 총액으로 기재

Sheet 원가계산서
B1: 원 가 계 산 서
B2: 계약명 : | D2: =세부내역서!B2 -> [ 대학 체육시설 부지 인허가 및 설계 용역 ] | F2: * 업체명 :
B3: 비 목 | E3: 금 액 | F3: 구 성 비 | J3: 비 고
A4: A1 | B4: 순 공 사 원 가 | C4: 재 료 비 | D4: 직 접 재 료 비 | E4: =집계표!H30 -> 0
A5: A2 | D5: 간 접 재 료 비
A6: A3 | D6: 작 업 부 산 물
A7: AS | D7: [ 소 계 ] | E7: =TRUNC(SUM(E4:E6),0) -> 0
A8: B1 | C8: 노 무 비 | D8: 직 접 노 무 비 | E8: =집계표!J30 -> 0
A9: B2 | D9: 간 접 노 무 비 | E9: =TRUNC(E8*H9,0) -> 0 | F9: 직접노무비 | G9: * | H9: 0.126
A10: BS | D10: [ 소 계 ] | E10: =TRUNC(SUM(E8:E9),0) -> 0
A11: C2 | C11: 경 비 | D11: 기 계 경 비 | E11: =집계표!L30 -> 0
A12: C4 | D12: 산 재 보 험 료 | E12: =TRUNC(E10*H12,0) -> 0 | F12: 노무비 | G12: * | H12: 0.0356
A13: C5 | D13: 고 용 보 험 료 | E13: =TRUNC(E10*H13,0) -> 0 | F13: 노무비 | G13: * | H13: 0.0101
A14: C6 | D14: 국민 건강 보험료 | F14: 직접노무비 | G14: * | H14: 0.03545 | J14: 법정 해당시 포함
D15: 노인장기요양보험료 | F15: 국민건강보험료 | G15: * | H15: 0.1295 | J15: 법정 해당시 포함
A16: C7 | D16: 국민 연금 보험료 | F16: 직접노무비 | G16: * | H16: 0.045 | J16: 법정 해당시 포함
A17: C8 | D17: 퇴직 공제 부금비 | F17: 직접노무비 | G17: * | H17: 0.023 | J17: 법정 해당시 포함
A18: CA | D18: 산업안전보건관리비 | E18: =(E7+E8)*H18 -> 0 | F18: (재료비+직접노무비) | G18: * | H18: 0.0293 | J18: 법정 해당시 포함
A19: CH | D19: 환 경 보 전 비 | E19: =TRUNC((E7+E8+E11)*H19,0) -> 0 | F19: (재료비+직접노무비+산출경비) | G19: * | H19: 0.003 | J19: 법정 해당시 포함
A20: CK | D20: 건설하도급대금지급보증서 발급수수료 | F20: (재료비+직접노무비+산출경비) | G20: * | H20: 0.00081 | J20: 법정 해당시 포함
A21: CL | D21: 건설기계대여대금지급보증서 발급수수료 | F21: (재료비+직접노무비+산출경비) | G21: * | H21: 0.001 | J21: 법정 해당시 포함
D23: 기 타 경 비 | E23: =TRUNC((E7+E10)*H23,0) -> 0 | F23: (재료비+노무비) | G23: * | H23: 0.058
A24: CS | D24: [ 소 계 ] | E24: =TRUNC(SUM(E11:E23),0) -> 0
A25: S1 | B25: 계 | E25: =TRUNC(E7+E10+E24,0) -> 0
A26: D1 | B26: 일 반 관 리 비 | E26: =TRUNC((E7+E10+E24)*H26,0) -> 0 | F26: (재료비+노무비+경비) | G26: * | H26: 0.06 | J26: 6% 이내
A27: D2 | B27: 이 윤 | E27: =TRUNC((E10+E24+E26)*H27,0) -> 0 | F27: (노무비+경비+일반관리비) | G27: * | H27: 0.15 | J27: 15% 이내
A28: D4
A29: D5
A32: D9 | B32: 공 급 가 액 | E32: =TRUNC(SUM(E25:E31),0) -> 0
A33: DB | B33: 부 가 가 치 세 | E33: =TRUNC(E32*H33,0) -> 0 | F33: 공급가액 | G33: * | H33: 0.1
A34: DH | B34: 도 급 액 | E34: =TRUNC(E32+E33,0) -> 0
A39: S2 | B39: 총 용 역 비 | E39: =TRUNC(SUM(E34:E38),0) -> 0

Sheet 집계표
B1: 집계표
B2: =세부내역서!B2 -> [ 대학 체육시설 부지 인허가 및 설계 용역 ]
B3: 공종명 | D3: 규 격 | E3: 단위 | F3: 수량 | G3: 재 료 비 | I3: 노 무 비 | K3: 경 비 | M3: 합 계 | O3: 비 고
G4: 단 가 | H4: 금 액 | I4: 단 가 | J4: 금 액 | K4: 단 가 | L4: 금 액 | M4: 단 가 | N4: 금 액
B5: =세부내역서!B5 -> 1. 개발제한구역 관리계획 변경 | E5: 식 | F5: 1 | G5: =세부내역서!H5 -> 0 | H5: =TRUNC(G5*F5, 0) -> 0 | I5: =세부내역서!J5 -> 0 | J5: =TRUNC(I5*F5, 0) -> 0 | K5: =세부내역서!L5 -> 0 | L5: =TRUNC(K5*F5, 0) -> 0 | M5: =TRUNC(G5+I5+K5, 0) -> 0 | N5: =TRUNC(H5+J5+L5, 0) -> 0
B6: =세부내역서!B9 -> 2.도시관리계획 변경 | E6: 식 | F6: 1 | G6: =세부내역서!H9 -> 0 | H6: =TRUNC(G6*F6, 0) -> 0 | I6: =세부내역서!J9 -> 0 | J6: =TRUNC(I6*F6, 0) -> 0 | K6: =세부내역서!L9 -> 0 | L6: =TRUNC(K6*F6, 0) -> 0 | N6: =TRUNC(H6+J6+L6, 0) -> 0
B7: =세부내역서!B13 -> 3.도시계획시설결정 및 실시계획인가 변경 | E7: 식 | F7: 1 | G7: =세부내역서!H13 -> 0 | H7: =TRUNC(G7*F7, 0) -> 0 | I7: =세부내역서!J13 -> 0 | J7: =TRUNC(I7*F7, 0) -> 0 | K7: =세부내역서!L13 -> 0 | L7: =TRUNC(K7*F7, 0) -> 0 | M7: =TRUNC(G7+I7+K7, 0) -> 0 | N7: =TRUNC(H7+J7+L7, 0) -> 0
B8: =세부내역서!B17 -> 4. 개발행위허가(건축허가) | E8: 식 | F8: 1 | G8: =세부내역서!H17 -> 0 | H8: =TRUNC(G8*F8, 0) -> 0 | I8: =세부내역서!J17 -> 0 | J8: =TRUNC(I8*F8, 0) -> 0 | K8: =세부내역서!L17 -> 0 | L8: =TRUNC(K8*F8, 0) -> 0 | M8: =TRUNC(G8+I8+K8, 0) -> 0 | N8: =TRUNC(H8+J8+L8, 0) -> 0
B9: =세부내역서!B25 -> 5. 관리동 실시설계도서 작성 | E9: 식 | F9: 1 | G9: =세부내역서!H25 -> 0 | H9: =TRUNC(G9*F9, 0) -> 0 | I9: =세부내역서!J25 -> 0 | J9: =TRUNC(I9*F9, 0) -> 0 | K9: =세부내역서!L25 -> 0 | L9: =TRUNC(K9*F9, 0) -> 0 | M9: =TRUNC(G9+I9+K9, 0) -> 0 | N9: =TRUNC(H9+J9+L9, 0) -> 0
B10: =세부내역서!B30 -> 6. 테니스장 개선 실시설계 도서 작성 | E10: 식 | F10: 1 | G10: =세부내역서!H30 -> 0 | H10: =TRUNC(G10*F10, 0) -> 0 | I10: =세부내역서!J30 -> 0 | J10: =TRUNC(I10*F10, 0) -> 0 | K10: =세부내역서!L30 -> 0 | L10: =TRUNC(K10*F10, 0) -> 0 | M10: =TRUNC(G10+I10+K10, 0) -> 0 | N10: =TRUNC(H10+J10+L10, 0) -> 0
B11: 7. 손해배상공제료 | E11: 식 | F11: 1 | G11: =세부내역서!H35 -> 0 | H11: =TRUNC(G11*F11, 0) -> 0 | I11: =세부내역서!J35 -> 0 | J11: =TRUNC(I11*F11, 0) -> 0 | K11: =세부내역서!L35 -> 0 | L11: =TRUNC(K11*F11, 0) -> 0 | M11: =TRUNC(G11+I11+K11, 0) -> 0 | N11: =TRUNC(H11+J11+L11, 0) -> 0
H12: =TRUNC(G12*F12, 0) -> 0 | J12: =TRUNC(I12*F12, 0) -> 0 | L12: =TRUNC(K12*F12, 0) -> 0 | M12: =TRUNC(G12+I12+K12, 0) -> 0 | N12: =TRUNC(H12+J12+L12, 0) -> 0
H13: =TRUNC(G13*F13, 0) -> 0 | J13: =TRUNC(I13*F13, 0) -> 0 | L13: =TRUNC(K13*F13, 0) -> 0 | M13: =TRUNC(G13+I13+K13, 0) -> 0 | N13: =TRUNC(H13+J13+L13, 0) -> 0
H14: =TRUNC(G14*F14, 0) -> 0 | J14: =TRUNC(I14*F14, 0) -> 0 | L14: =TRUNC(K14*F14, 0) -> 0 | M14: =TRUNC(G14+I14+K14, 0) -> 0 | N14: =TRUNC(H14+J14+L14, 0) -> 0
H15: =TRUNC(G15*F15, 0) -> 0 | J15: =TRUNC(I15*F15, 0) -> 0 | L15: =TRUNC(K15*F15, 0) -> 0 | M15: =TRUNC(G15+I15+K15, 0) -> 0 | N15: =TRUNC(H15+J15+L15, 0) -> 0
H16: =TRUNC(G16*F16, 0) -> 0 | J16: =TRUNC(I16*F16, 0) -> 0 | L16: =TRUNC(K16*F16, 0) -> 0 | M16: =TRUNC(G16+I16+K16, 0) -> 0 | N16: =TRUNC(H16+J16+L16, 0) -> 0
H17: =TRUNC(G17*F17, 0) -> 0 | J17: =TRUNC(I17*F17, 0) -> 0 | L17: =TRUNC(K17*F17, 0) -> 0 | M17: =TRUNC(G17+I17+K17, 0) -> 0 | N17: =TRUNC(H17+J17+L17, 0) -> 0
H18: =TRUNC(G18*F18, 0) -> 0 | J18: =TRUNC(I18*F18, 0) -> 0 | L18: =TRUNC(K18*F18, 0) -> 0 | M18: =TRUNC(G18+I18+K18, 0) -> 0 | N18: =TRUNC(H18+J18+L18, 0) -> 0
H19: =TRUNC(G19*F19, 0) -> 0 | J19: =TRUNC(I19*F19, 0) -> 0 | L19: =TRUNC(K19*F19, 0) -> 0 | M19: =TRUNC(G19+I19+K19, 0) -> 0 | N19: =TRUNC(H19+J19+L19, 0) -> 0
H20: =TRUNC(G20*F20, 0) -> 0 | J20: =TRUNC(I20*F20, 0) -> 0 | L20: =TRUNC(K20*F20, 0) -> 0 | M20: =TRUNC(G20+I20+K20, 0) -> 0 | N20: =TRUNC(H20+J20+L20, 0) -> 0
H21: =TRUNC(G21*F21, 0) -> 0 | J21: =TRUNC(I21*F21, 0) -> 0 | L21: =TRUNC(K21*F21, 0) -> 0 | M21: =TRUNC(G21+I21+K21, 0) -> 0 | N21: =TRUNC(H21+J21+L21, 0) -> 0
H22: =TRUNC(G22*F22, 0) -> 0 | J22: =TRUNC(I22*F22, 0) -> 0 | L22: =TRUNC(K22*F22, 0) -> 0 | M22: =TRUNC(G22+I22+K22, 0) -> 0 | N22: =TRUNC(H22+J22+L22, 0) -> 0
H23: =TRUNC(G23*F23, 0) -> 0 | J23: =TRUNC(I23*F23, 0) -> 0 | L23: =TRUNC(K23*F23, 0) -> 0 | M23: =TRUNC(G23+I23+K23, 0) -> 0 | N23: =TRUNC(H23+J23+L23, 0) -> 0
... H29: =TRUNC(G29*F29, 0) -> 0 | J29: =TRUNC(I29*F29, 0) -> 0 | L29: =TRUNC(K29*F29, 0) -> 0 | M29: =TRUNC(G29+I29+K29, 0) -> 0 | N29: =TRUNC(H29+J29+L29, 0) -> 0
B30: [ 합 계 ] | H30: =SUM(H5:H29) -> 0 | J30: =SUM(J5:J29) -> 0 | L30: =SUM(L5:L29) -> 0 | N30: =TRUNC(H30+J30+L30, 0) -> 0

Sheet 세부내역서
B1: 세부 내역서
B2: [ 대학 체육시설 부지 인허가 및 설계 용역 ]
B3: 품 명 | D3: 규 격 | E3: 단위 | F3: 수량 | G3: 재 료 비 | I3: 노 무 비 | K3: 경 비 | M3: 합 계 | O3: 비 고
G4: 단 가 | H4: 금 액 | I4: 단 가 | J4: 금 액 | K4: 단 가 | L4: 금 액 | M4: 단 가 | N4: 금 액
B5: 1. 개발제한구역 관리계획 변경 | H5: =SUM(H6:H8) -> 0 | J5: =SUM(J6:J8) -> 0 | L5: =SUM(L6:L8) -> 0 | N5: =SUM(N6:N8) -> 0
C6: 경미한변경 도서작성 및 협의 | D6: 고급기술자 | E6: 인 | H6: =TRUNC(G6*F6, 0) -> 0 | J6: =TRUNC(I6*F6, 0) -> 0 | L6: =TRUNC(K6*F6, 0) -> 0 | N6: =TRUNC(H6+J6+L6, 0) -> 0
D7: 중급기술자 | E7: 인 | H7: =TRUNC(G7*F7, 0) -> 0 | J7: =TRUNC(I7*F7, 0) -> 0 | L7: =TRUNC(K7*F7, 0) -> 0 | N7: =TRUNC(H7+J7+L7, 0) -> 0
D8: 초급기술자 | E8: 인 | H8: =TRUNC(G8*F8, 0) -> 0 | J8: =TRUNC(I8*F8, 0) -> 0 | L8: =TRUNC(K8*F8, 0) -> 0 | N8: =TRUNC(H8+J8+L8, 0) -> 0
B9: 2.도시관리계획 변경 | H9: =SUM(H10:H12) -> 0 | J9: =SUM(J10:J12) -> 0 | L9: =SUM(L10:L12) -> 0 | N9: =SUM(N10:N12) -> 0
C10: 경미한변경 도서작성 및 협의 | D10: 고급기술자 | E10: 인 | H10: =TRUNC(G10*F10, 0) -> 0 | J10: =TRUNC(I10*F10, 0) -> 0 | L10: =TRUNC(K10*F10, 0) -> 0 | N10: =TRUNC(H10+J10+L10, 0) -> 0
D11: 중급기술자 | E11: 인 | H11: =TRUNC(G11*F11, 0) -> 0 | J11: =TRUNC(I11*F11, 0) -> 0 | L11: =TRUNC(K11*F11, 0) -> 0 | N11: =TRUNC(H11+J11+L11, 0) -> 0
D12: 초급기술자 | E12: 인 | H12: =TRUNC(G12*F12, 0) -> 0 | J12: =TRUNC(I12*F12, 0) -> 0 | L12: =TRUNC(K12*F12, 0) -> 0 | N12: =TRUNC(H12+J12+L12, 0) -> 0
B13: 3.도시계획시설결정 및 실시계획인가 변경 | H13: =SUM(H14:H16) -> 0 | J13: =SUM(J14:J16) -> 0 | L13: =SUM(L14:L16) -> 0 | N13: =SUM(N14:N16) -> 0
C14: 경미한변경 도서작성 및 협의 | D14: 고급기술자 | E14: 인 | H14: =TRUNC(G14*F14, 0) -> 0 | J14: =TRUNC(I14*F14, 0) -> 0 | L14: =TRUNC(K14*F14, 0) -> 0 | N14: =TRUNC(H14+J14+L14, 0) -> 0
D15: 중급기술자 | E15: 인 | H15: =TRUNC(G15*F15, 0) -> 0 | J15: =TRUNC(I15*F15, 0) -> 0 | L15: =TRUNC(K15*F15, 0) -> 0 | N15: =TRUNC(H15+J15+L15, 0) -> 0
D16: 초급기술자 | E16: 인 | H16: =TRUNC(G16*F16, 0) -> 0 | J16: =TRUNC(I16*F16, 0) -> 0 | L16: =TRUNC(K16*F16, 0) -> 0 | N16: =TRUNC(H16+J16+L16, 0) -> 0
B17: 4. 개발행위허가(건축허가) | H17: =SUM(H18:H24) -> 0 | J17: =SUM(J18:J24) -> 0 | L17: =SUM(L18:L24) -> 0 | N17: =SUM(N18:N24) -> 0
C18: 변경 도서작성 및 협의 | D18: 고급기술자 | E18: 인 | H18: =TRUNC(G18*F18, 0) -> 0 | J18: =TRUNC(I18*F18, 0) -> 0 | L18: =TRUNC(K18*F18, 0) -> 0 | N18: =TRUNC(H18+J18+L18, 0) -> 0
D19: 중급기술자 | E19: 인 | H19: =TRUNC(G19*F19, 0) -> 0 | J19: =TRUNC(I19*F19, 0) -> 0 | L19: =TRUNC(K19*F19, 0) -> 0 | N19: =TRUNC(H19+J19+L19, 0) -> 0
D20: 초급기술자 | E20: 인 | H20: =TRUNC(G20*F20, 0) -> 0 | J20: =TRUNC(I20*F20, 0) -> 0 | L20: =TRUNC(K20*F20, 0) -> 0 | N20: =TRUNC(H20+J20+L20, 0) -> 0
C21: 건축허가 도서 작성 및 협의 | D21: 건축사 | E21: 인 | H21: =TRUNC(G21*F21, 0) -> 0 | J21: =TRUNC(I21*F21, 0) -> 0 | L21: =TRUNC(K21*F21, 0) -> 0 | N21: =TRUNC(H21+J21+L21, 0) -> 0
D22: 고급기술자 | E22: 인 | H22: =TRUNC(G22*F22, 0) -> 0 | J22: =TRUNC(I22*F22, 0) -> 0 | L22: =TRUNC(K22*F22, 0) -> 0 | N22: =TRUNC(H22+J22+L22, 0) -> 0
D23: 중급기술자 | E23: 인 | H23: =TRUNC(G23*F23, 0) -> 0 | J23: =TRUNC(I23*F23, 0) -> 0 | L23: =TRUNC(K23*F23, 0) -> 0 | N23: =TRUNC(H23+J23+L23, 0) -> 0
D24: 초급기술자 | E24: 인 | H24: =TRUNC(G24*F24, 0) -> 0 | J24: =TRUNC(I24*F24, 0) -> 0 | L24: =TRUNC(K24*F24, 0) -> 0 | N24: =TRUNC(H24+J24+L24, 0) -> 0
B25: 5. 관리동 실시설계도서 작성 | H25: =SUM(H26:H29) -> 0 | J25: =SUM(J26:J29) -> 0 | L25: =SUM(L26:L29) -> 0 | N25: =SUM(N26:N29) -> 0
C26: 실시설계 도서작성 및 협의 | D26: 고급기술자 | E26: 인 | H26: =TRUNC(G26*F26, 0) -> 0 | J26: =TRUNC(I26*F26, 0) -> 0 | L26: =TRUNC(K26*F26, 0) -> 0 | N26: =TRUNC(H26+J26+L26, 0) -> 0
D27: 중급기술자 | E27: 인 | H27: =TRUNC(G27*F27, 0) -> 0 | J27: =TRUNC(I27*F27, 0) -> 0 | L27: =TRUNC(K27*F27, 0) -> 0 | N27: =TRUNC(H27+J27+L27, 0) -> 0
D28: 초급기술자 | E28: 인 | H28: =TRUNC(G28*F28, 0) -> 0 | J28: =TRUNC(I28*F28, 0) -> 0 | L28: =TRUNC(K28*F28, 0) -> 0 | N28: =TRUNC(H28+J28+L28, 0) -> 0
C29: 내역서 작성 | D29: 물량내역산출 | E29: 인 | H29: =TRUNC(G29*F29, 0) -> 0 | J29: =TRUNC(I29*F29, 0) -> 0 | L29: =TRUNC(K29*F29, 0) -> 0 | N29: =TRUNC(H29+J29+L29, 0) -> 0
B30: 6. 테니스장 개선 실시설계 도서 작성 | H30: =SUM(H31:H34) -> 0 | J30: =SUM(J31:J34) -> 0 | L30: =SUM(L31:L34) -> 0 | N30: =SUM(N31:N34) -> 0
C31: 실시설계 도서작성 및 협의 | D31: 고급기술자 | E31: 인 | H31: =TRUNC(G31*F31, 0) -> 0 | J31: =TRUNC(I31*F31, 0) -> 0 | L31: =TRUNC(K31*F31, 0) -> 0 | N31: =TRUNC(H31+J31+L31, 0) -> 0
D32: 중급기술자 | E32: 인 | H32: =TRUNC(G32*F32, 0) -> 0 | J32: =TRUNC(I32*F32, 0) -> 0 | L32: =TRUNC(K32*F32, 0) -> 0 | N32: =TRUNC(H32+J32+L32, 0) -> 0
D33: 초급기술자 | E33: 인 | H33: =TRUNC(G33*F33, 0) -> 0 | J33: =TRUNC(I33*F33, 0) -> 0 | L33: =TRUNC(K33*F33, 0) -> 0 | N33: =TRUNC(H33+J33+L33, 0) -> 0
C34: 내역서 작성 | D34: 물량내역산출 | E34: 인 | H34: =TRUNC(G34*F34, 0) -> 0 | J34: =TRUNC(I34*F34, 0) -> 0 | L34: =TRUNC(K34*F34, 0) -> 0 | N34: =TRUNC(H34+J34+L34, 0) -> 0
B35: 7. 손해배상공제료 | H35: =SUM(H36:H55) -> 0 | J35: =SUM(J36:J55) -> 0 | L35: =SUM(L36:L55) -> 0 | N35: =SUM(N36:N55) -> 0
H36: =TRUNC(G36*F36, 0) -> 0 | J36: =TRUNC(I36*F36, 0) -> 0 | L36: =TRUNC(K36*F36, 0) -> 0 | N36: =TRUNC(H36+J36+L36, 0) -> 0
H37: =TRUNC(G37*F37, 0) -> 0 | J37: =TRUNC(I37*F37, 0) -> 0 | L37: =TRUNC(K37*F37, 0) -> 0 | N37: =TRUNC(H37+J37+L37, 0) -> 0
H38: =TRUNC(G38*F38, 0) -> 0 | J38: =TRUNC(I38*F38, 0) -> 0 | L38: =TRUNC(K38*F38, 0) -> 0 | N38: =TRUNC(H38+J38+L38, 0) -> 0
H39: =TRUNC(G39*F39, 0) -> 0 | J39: =TRUNC(I39*F39, 0) -> 0 | L39: =TRUNC(K39*F39, 0) -> 0 | N39: =TRUNC(H39+J39+L39, 0) -> 0
H40: =TRUNC(G40*F40, 0) -> 0 | J40: =TRUNC(I40*F40, 0) -> 0 | L40: =TRUNC(K40*F40, 0) -> 0 | N40: =TRUNC(H40+J40+L40, 0) -> 0
H41: =TRUNC(G41*F41, 0) -> 0 | J41: =TRUNC(I41*F41, 0) -> 0 | L41: =TRUNC(K41*F41, 0) -> 0 | N41: =TRUNC(H41+J41+L41, 0) -> 0
H42: =TRUNC(G42*F42, 0) -> 0 | J42: =TRUNC(I42*F42, 0) -> 0 | L42: =TRUNC(K42*F42, 0) -> 0 | N42: =TRUNC(H42+J42+L42, 0) -> 0
H43: =TRUNC(G43*F43, 0) -> 0 | J43: =TRUNC(I43*F43, 0) -> 0 | L43: =TRUNC(K43*F43, 0) -> 0 | N43: =TRUNC(H43+J43+L43, 0) -> 0
H44: =TRUNC(G44*F44, 0) -> 0 | J44: =TRUNC(I44*F44, 0) -> 0 | L44: =TRUNC(K44*F44, 0) -> 0 | N44: =TRUNC(H44+J44+L44, 0) -> 0
H45: =TRUNC(G45*F45, 0) -> 0 | J45: =TRUNC(I45*F45, 0) -> 0 | L45: =TRUNC(K45*F45, 0) -> 0 | N45: =TRUNC(H45+J45+L45, 0) -> 0
H46: =TRUNC(G46*F46, 0) -> 0 | J46: =TRUNC(I46*F46, 0) -> 0 | L46: =TRUNC(K46*F46, 0) -> 0 | N46: =TRUNC(H46+J46+L46, 0) -> 0
H47: =TRUNC(G47*F47, 0) -> 0 | J47: =TRUNC(I47*F47, 0) -> 0 | L47: =TRUNC(K47*F47, 0) -> 0 | N47: =TRUNC(H47+J47+L47, 0) -> 0
... H55: =TRUNC(G55*F55, 0) -> 0 | J55: =TRUNC(I55*F55, 0) -> 0 | L55: =TRUNC(K55*F55, 0) -> 0 | N55: =TRUNC(H55+J55+L55, 0) -> 0
B56: [ 합 계 ] | H56: =SUM(H5,H9,H13,H17,H25,H30,H35) -> 0 | J56: =SUM(J5,J9,J13,J17,J25,J30,J35) -> 0 | L56: =SUM(L5,L9,L13,L17,L25,L30,L35) -> 0 | N56: =SUM(N5,N9,N13,N17,N25,N30,N35) -> 0

Sheet 중기단가목록
A1: 중 기 단 가 목 록
A2: [ 한국항공대학교 과학관1층 환경개선공사 ]
A3: 코 드 | B3: 품 명 | C3: 규 격 | D3: 단위 | E3: 재 료 비 | F3: 노 무 비 | G3: 경 비 | H3: 합 계 | I3: 번 호 | J3: 비 고 | K3: START

Sheet 중기단가산출서
A1: 중 기 단 가 산 출 서
A2: [ 한국항공대학교 과학관1층 환경개선공사 ]
A3: 산 출 내 역 | B3: 재 료 비 | C3: 노 무 비 | D3: 경 비 | E3: 합 계 | F3: 비 고 | G3: START | H3: 코드 | I3: 품명 | J3: 규격 | K3: 단위 | L3: 수량
A4: ( )
A6: 총 계 | E6: 0

Sheet  공사설정 
A1: 이 Sheet는 수정하지 마십시요
A2: 공사구분 | B2: A
A3: 확정내역 | B3: 원내역
A4: 자재단가적용 | B4: 5
A5: 경비단가적용 | B5: 5
A6: 품목코드형식 | B6: XXXX-XXXX-XXXXXXXXX
A7: 내역금액소수점처리 | B7: C | C7: T
A8: 일위대가내역소수점처리 | B8: C | C8: 2
A9: 단가명 | B9: 조달청가격 | C9: 거래가격 | D9: 유통물가 | E9: 조사가격1 | F9: 조사가격2 | G9: TTTTT
A10: 환율 | B10: 1118 | C10: 0 | D10: 0
A11: 시간당작업량 | B11: R | C11: 4
A12: 1회 사이클시간 | B12: R | C12: 4
A13: 시간당 작업사이클 | B13: R | C13: 3
A14: 일반변수 | B14: C | C14: 5
A15: 시간당 노임산출 계수 | B15: A | C15: 1/8*16/12*25/20 | D15: 1/8*16/12*25/20 | E15: 1/8*16/12*25/20 | F15: 1
A16: 재료비 할증 계수 | B16: 1.11 | C16: 1.12
A17: 노무비 할증 계수 | B17: 1 | C17: 1.5 | D17: 1.16 | E17: 1.6 | F17: 1.6 | G17: 1.6 | H17: 1.94 | I17: 1.94 | J17: 1.94 | K17: 1 | L17: 1 | M17: 1
A18: 경비 할증 계수 | B18: 1.25 | C18: 1.071
A19: 내역,일위대가 품명,규격,단위 따로적용
A20: 내역단가 소수점처리 | B20: C | C20: 1
A21: 코드 | B21: 공종구분명 | C21: 원가비목코드
A22: 1 | B22: 작 업 부 산 물 | C22: A3
A23: 2 | B23: 운 반 비 | C23: C1
A24: 3 | B24: 관 급 자 재 비 | C24: DJ
A25: 4 | B25: 사 급 자 재 비 | C25: D3
A26: 5 | B26: 외 자 재
A27: 6 | B27: 관 급 공 사 비 | C27: DK
A28: 7 | B28: 폐기물 처리비 | C28: D4
A29: 8 | B29: 석면폐기물 처리? | C29: D5
A30: 9 | B30: ...

Sheet Sheet1
